BEGIN:VCALENDAR
VERSION:2.0
PRODID:-//Hopewell Baptist Church - ECPv6.15.20//NONSGML v1.0//EN
CALSCALE:GREGORIAN
METHOD:PUBLISH
X-WR-CALNAME:Hopewell Baptist Church
X-ORIGINAL-URL:https://hopewellbc.com
X-WR-CALDESC:Events for Hopewell Baptist Church
REFRESH-INTERVAL;VALUE=DURATION:PT1H
X-Robots-Tag:noindex
X-PUBLISHED-TTL:PT1H
BEGIN:VTIMEZONE
TZID:America/Monterrey
BEGIN:DAYLIGHT
TZOFFSETFROM:-0600
TZOFFSETTO:-0500
TZNAME:CDT
DTSTART:20240407T080000
END:DAYLIGHT
BEGIN:STANDARD
TZOFFSETFROM:-0500
TZOFFSETTO:-0600
TZNAME:CST
DTSTART:20241027T070000
END:STANDARD
BEGIN:DAYLIGHT
TZOFFSETFROM:-0600
TZOFFSETTO:-0500
TZNAME:CDT
DTSTART:20250406T080000
END:DAYLIGHT
BEGIN:STANDARD
TZOFFSETFROM:-0500
TZOFFSETTO:-0600
TZNAME:CST
DTSTART:20251026T070000
END:STANDARD
BEGIN:DAYLIGHT
TZOFFSETFROM:-0600
TZOFFSETTO:-0500
TZNAME:CDT
DTSTART:20260405T080000
END:DAYLIGHT
BEGIN:STANDARD
TZOFFSETFROM:-0500
TZOFFSETTO:-0600
TZNAME:CST
DTSTART:20261025T070000
END:STANDARD
END:VTIMEZONE
BEGIN:VEVENT
DTSTART;VALUE=DATE:20250420
DTEND;VALUE=DATE:20250421
DTSTAMP:20260423T231954
CREATED:20250129T213226Z
LAST-MODIFIED:20250129T213917Z
UID:43817-1745107200-1745193599@hopewellbc.com
SUMMARY:Easter Sunday
DESCRIPTION:
URL:https://hopewellbc.com/event/easter-sunday-4/
END:VEVENT
BEGIN:VEVENT
DTSTART;VALUE=DATE:20250413
DTEND;VALUE=DATE:20250414
DTSTAMP:20260423T231954
CREATED:20250129T213226Z
LAST-MODIFIED:20250129T213917Z
UID:43816-1744502400-1744588799@hopewellbc.com
SUMMARY:Amusement Park Sunday
DESCRIPTION:
URL:https://hopewellbc.com/event/amusement-park-sunday-3/
END:VEVENT
BEGIN:VEVENT
DTSTART;VALUE=DATE:20250407
DTEND;VALUE=DATE:20250413
DTSTAMP:20260423T231954
CREATED:20250129T212211Z
LAST-MODIFIED:20250129T213917Z
UID:43724-1743984000-1744502399@hopewellbc.com
SUMMARY:Churchwide 10\,000-Door Campaign
DESCRIPTION:
URL:https://hopewellbc.com/event/churchwide-10000-door-campaign/
END:VEVENT
BEGIN:VEVENT
DTSTART;VALUE=DATE:20250406
DTEND;VALUE=DATE:20250407
DTSTAMP:20260423T231954
CREATED:20250129T212210Z
LAST-MODIFIED:20250129T213917Z
UID:43723-1743897600-1743983999@hopewellbc.com
SUMMARY:Neighbor Sunday
DESCRIPTION:
URL:https://hopewellbc.com/event/neighbor-sunday-2/
END:VEVENT
BEGIN:VEVENT
DTSTART;VALUE=DATE:20250330
DTEND;VALUE=DATE:20250331
DTSTAMP:20260423T231954
CREATED:20250129T213226Z
LAST-MODIFIED:20250129T213917Z
UID:43815-1743292800-1743379199@hopewellbc.com
SUMMARY:GAP Meeting (PM)
DESCRIPTION:
URL:https://hopewellbc.com/event/gap-meeting-pm-5/
END:VEVENT
BEGIN:VEVENT
DTSTART;VALUE=DATE:20250329
DTEND;VALUE=DATE:20250330
DTSTAMP:20260423T231954
CREATED:20250129T213209Z
LAST-MODIFIED:20250129T213900Z
UID:43809-1743206400-1743292799@hopewellbc.com
SUMMARY:Children's Workers' Training Breakfast
DESCRIPTION:
URL:https://hopewellbc.com/event/childrens-workers-training-breakfast-2/
END:VEVENT
BEGIN:VEVENT
DTSTART;VALUE=DATE:20250323
DTEND;VALUE=DATE:20250324
DTSTAMP:20260423T231954
CREATED:20250129T213209Z
LAST-MODIFIED:20250129T213900Z
UID:43808-1742688000-1742774399@hopewellbc.com
SUMMARY:Baked Potato Bar Fellowship (PM)
DESCRIPTION:
URL:https://hopewellbc.com/event/baked-potato-bar-fellowship-pm-3/
END:VEVENT
BEGIN:VEVENT
DTSTART;VALUE=DATE:20250321
DTEND;VALUE=DATE:20250322
DTSTAMP:20260423T231954
CREATED:20250129T213208Z
LAST-MODIFIED:20250129T213900Z
UID:43807-1742515200-1742601599@hopewellbc.com
SUMMARY:Teen Epicenter Activity
DESCRIPTION:
URL:https://hopewellbc.com/event/teen-epicenter-activity-2/
END:VEVENT
BEGIN:VEVENT
DTSTART;VALUE=DATE:20250310
DTEND;VALUE=DATE:20250311
DTSTAMP:20260423T231954
CREATED:20250129T213208Z
LAST-MODIFIED:20250129T213900Z
UID:43805-1741564800-1741651199@hopewellbc.com
SUMMARY:Adult Restaurant Night
DESCRIPTION:
URL:https://hopewellbc.com/event/adult-restaurant-night-2/
END:VEVENT
BEGIN:VEVENT
DTSTART;VALUE=DATE:20250309
DTEND;VALUE=DATE:20250310
DTSTAMP:20260423T231954
CREATED:20250129T213208Z
LAST-MODIFIED:20250129T213900Z
UID:43806-1741478400-1741564799@hopewellbc.com
SUMMARY:Time Change Sunday
DESCRIPTION:
URL:https://hopewellbc.com/event/time-change-sunday-3/
END:VEVENT
BEGIN:VEVENT
DTSTART;VALUE=DATE:20250302
DTEND;VALUE=DATE:20250303
DTSTAMP:20260423T231955
CREATED:20250129T213152Z
LAST-MODIFIED:20250129T213844Z
UID:43798-1740873600-1740959999@hopewellbc.com
SUMMARY:Spring Senior Luncheon
DESCRIPTION:
URL:https://hopewellbc.com/event/spring-senior-luncheon-3/
END:VEVENT
BEGIN:VEVENT
DTSTART;VALUE=DATE:20250302
DTEND;VALUE=DATE:20250303
DTSTAMP:20260423T231955
CREATED:20250129T213152Z
LAST-MODIFIED:20250129T213844Z
UID:43799-1740873600-1740959999@hopewellbc.com
SUMMARY:Lord's Supper (PM)
DESCRIPTION:
URL:https://hopewellbc.com/event/lords-supper-pm-7/
END:VEVENT
BEGIN:VEVENT
DTSTART;VALUE=DATE:20250301
DTEND;VALUE=DATE:20250302
DTSTAMP:20260423T231955
CREATED:20250129T213152Z
LAST-MODIFIED:20250129T213844Z
UID:43797-1740787200-1740873599@hopewellbc.com
SUMMARY:Security Team Training Breakfast
DESCRIPTION:
URL:https://hopewellbc.com/event/security-team-training-breakfast-2/
END:VEVENT
BEGIN:VEVENT
DTSTART;VALUE=DATE:20250223
DTEND;VALUE=DATE:20250224
DTSTAMP:20260423T231955
CREATED:20250129T213152Z
LAST-MODIFIED:20250129T213844Z
UID:43796-1740268800-1740355199@hopewellbc.com
SUMMARY:Ladies' and Teen Girls' Sunday School Rally
DESCRIPTION:
URL:https://hopewellbc.com/event/ladies-and-teen-girls-sunday-school-rally-3/
END:VEVENT
BEGIN:VEVENT
DTSTART;VALUE=DATE:20250220
DTEND;VALUE=DATE:20250223
DTSTAMP:20260423T231955
CREATED:20250129T213152Z
LAST-MODIFIED:20250129T213844Z
UID:43795-1740009600-1740268799@hopewellbc.com
SUMMARY:33rd Annual California Baptist Ladies' Conference
DESCRIPTION:
URL:https://hopewellbc.com/event/33rd-annual-california-baptist-ladies-conference-2/
END:VEVENT
BEGIN:VEVENT
DTSTART;VALUE=DATE:20250217
DTEND;VALUE=DATE:20250218
DTSTAMP:20260423T231955
CREATED:20250129T213135Z
LAST-MODIFIED:20250129T213827Z
UID:43788-1739750400-1739836799@hopewellbc.com
SUMMARY:President's Day
DESCRIPTION:
URL:https://hopewellbc.com/event/presidents-day-5/
END:VEVENT
BEGIN:VEVENT
DTSTART;VALUE=DATE:20250217
DTEND;VALUE=DATE:20250218
DTSTAMP:20260423T231955
CREATED:20250129T213135Z
LAST-MODIFIED:20250129T213827Z
UID:43789-1739750400-1739836799@hopewellbc.com
SUMMARY:Ladies' Conference Work Day
DESCRIPTION:
URL:https://hopewellbc.com/event/ladies-conference-work-day-5/
END:VEVENT
BEGIN:VEVENT
DTSTART;VALUE=DATE:20250214
DTEND;VALUE=DATE:20250215
DTSTAMP:20260423T231955
CREATED:20250129T213135Z
LAST-MODIFIED:20250129T213827Z
UID:43787-1739491200-1739577599@hopewellbc.com
SUMMARY:Valentine's Day
DESCRIPTION:
URL:https://hopewellbc.com/event/valentines-day-4/
END:VEVENT
BEGIN:VEVENT
DTSTART;VALUE=DATE:20250209
DTEND;VALUE=DATE:20250210
DTSTAMP:20260423T231955
CREATED:20250129T213135Z
LAST-MODIFIED:20250129T213827Z
UID:43786-1739059200-1739145599@hopewellbc.com
SUMMARY:Jersey Sunday (7:30 PM Evening Service)
DESCRIPTION:
URL:https://hopewellbc.com/event/jersey-sunday-730-pm-evening-service-2/
END:VEVENT
BEGIN:VEVENT
DTSTART;VALUE=DATE:20250208
DTEND;VALUE=DATE:20250209
DTSTAMP:20260423T231955
CREATED:20250129T213134Z
LAST-MODIFIED:20250129T213827Z
UID:43785-1738972800-1739059199@hopewellbc.com
SUMMARY:Nursery Workers' Training Breakfast
DESCRIPTION:
URL:https://hopewellbc.com/event/nursery-workers-training-breakfast-2/
END:VEVENT
BEGIN:VEVENT
DTSTART;VALUE=DATE:20250202
DTEND;VALUE=DATE:20250203
DTSTAMP:20260423T231955
CREATED:20250129T213118Z
LAST-MODIFIED:20250129T213810Z
UID:43779-1738454400-1738540799@hopewellbc.com
SUMMARY:Ladies' Conference Planning Meeting (5 PM)
DESCRIPTION:
URL:https://hopewellbc.com/event/ladies-conference-planning-meeting-5-pm-2/
END:VEVENT
BEGIN:VEVENT
DTSTART;VALUE=DATE:20250126
DTEND;VALUE=DATE:20250127
DTSTAMP:20260423T231955
CREATED:20250129T213117Z
LAST-MODIFIED:20250129T213810Z
UID:43778-1737849600-1737935999@hopewellbc.com
SUMMARY:Annual Church Business Meeting (PM)
DESCRIPTION:
URL:https://hopewellbc.com/event/annual-church-business-meeting-pm-2/
END:VEVENT
BEGIN:VEVENT
DTSTART;VALUE=DATE:20250120
DTEND;VALUE=DATE:20250121
DTSTAMP:20260423T231955
CREATED:20250129T213117Z
LAST-MODIFIED:20250129T213810Z
UID:43776-1737331200-1737417599@hopewellbc.com
SUMMARY:Inauguration Day
DESCRIPTION:
URL:https://hopewellbc.com/event/inauguration-day-2/
END:VEVENT
BEGIN:VEVENT
DTSTART;VALUE=DATE:20250120
DTEND;VALUE=DATE:20250121
DTSTAMP:20260423T231955
CREATED:20250129T213117Z
LAST-MODIFIED:20250129T213810Z
UID:43777-1737331200-1737417599@hopewellbc.com
SUMMARY:Martin Luther King Jr. Day
DESCRIPTION:
URL:https://hopewellbc.com/event/martin-luther-king-jr-day-4/
END:VEVENT
BEGIN:VEVENT
DTSTART;VALUE=DATE:20250113
DTEND;VALUE=DATE:20250114
DTSTAMP:20260423T231955
CREATED:20250129T213117Z
LAST-MODIFIED:20250129T213810Z
UID:43775-1736726400-1736812799@hopewellbc.com
SUMMARY:Ladies' Auction Night
DESCRIPTION:
URL:https://hopewellbc.com/event/ladies-auction-night-2/
END:VEVENT
BEGIN:VEVENT
DTSTART;VALUE=DATE:20250112
DTEND;VALUE=DATE:20250113
DTSTAMP:20260423T231955
CREATED:20250129T213114Z
LAST-MODIFIED:20250129T213807Z
UID:43774-1736640000-1736726399@hopewellbc.com
SUMMARY:I Love the Bible Sunday
DESCRIPTION:
URL:https://hopewellbc.com/event/i-love-the-bible-sunday-2/
END:VEVENT
BEGIN:VEVENT
DTSTART;VALUE=DATE:20250111
DTEND;VALUE=DATE:20250112
DTSTAMP:20260423T231955
CREATED:20250129T213114Z
LAST-MODIFIED:20250129T213807Z
UID:43773-1736553600-1736639999@hopewellbc.com
SUMMARY:Usher's Breakfast Training
DESCRIPTION:
URL:https://hopewellbc.com/event/ushers-breakfast-training-2/
END:VEVENT
BEGIN:VEVENT
DTSTART;VALUE=DATE:20250108
DTEND;VALUE=DATE:20250109
DTSTAMP:20260423T231955
CREATED:20250129T213114Z
LAST-MODIFIED:20250129T213807Z
UID:43772-1736294400-1736380799@hopewellbc.com
SUMMARY:Guest Speaker Jonathan Ray
DESCRIPTION:
URL:https://hopewellbc.com/event/guest-speaker-jonathan-ray-2/
END:VEVENT
BEGIN:VEVENT
DTSTART;VALUE=DATE:20250106
DTEND;VALUE=DATE:20250108
DTSTAMP:20260423T231955
CREATED:20250129T213114Z
LAST-MODIFIED:20250129T213806Z
UID:43771-1736121600-1736294399@hopewellbc.com
SUMMARY:Preacher's Delight in Tacoma\, WA
DESCRIPTION:
URL:https://hopewellbc.com/event/preachers-delight-in-tacoma-wa-2/
END:VEVENT
BEGIN:VEVENT
DTSTART;VALUE=DATE:20250105
DTEND;VALUE=DATE:20250106
DTSTAMP:20260423T231955
CREATED:20250129T213114Z
LAST-MODIFIED:20250129T213806Z
UID:43770-1736035200-1736121599@hopewellbc.com
SUMMARY:Next Step Sunday (Lord's Supper AM)
DESCRIPTION:
URL:https://hopewellbc.com/event/next-step-sunday-lords-supper-am-2/
END:VEVENT
END:VCALENDAR