BEGIN:VCALENDAR
VERSION:2.0
PRODID:-//Hopewell Baptist Church - ECPv6.15.20//NONSGML v1.0//EN
CALSCALE:GREGORIAN
METHOD:PUBLISH
X-WR-CALNAME:Hopewell Baptist Church
X-ORIGINAL-URL:https://hopewellbc.com
X-WR-CALDESC:Events for Hopewell Baptist Church
REFRESH-INTERVAL;VALUE=DURATION:PT1H
X-Robots-Tag:noindex
X-PUBLISHED-TTL:PT1H
BEGIN:VTIMEZONE
TZID:America/Monterrey
BEGIN:DAYLIGHT
TZOFFSETFROM:-0600
TZOFFSETTO:-0500
TZNAME:CDT
DTSTART:20240407T080000
END:DAYLIGHT
BEGIN:STANDARD
TZOFFSETFROM:-0500
TZOFFSETTO:-0600
TZNAME:CST
DTSTART:20241027T070000
END:STANDARD
BEGIN:DAYLIGHT
TZOFFSETFROM:-0600
TZOFFSETTO:-0500
TZNAME:CDT
DTSTART:20250406T080000
END:DAYLIGHT
BEGIN:STANDARD
TZOFFSETFROM:-0500
TZOFFSETTO:-0600
TZNAME:CST
DTSTART:20251026T070000
END:STANDARD
BEGIN:DAYLIGHT
TZOFFSETFROM:-0600
TZOFFSETTO:-0500
TZNAME:CDT
DTSTART:20260405T080000
END:DAYLIGHT
BEGIN:STANDARD
TZOFFSETFROM:-0500
TZOFFSETTO:-0600
TZNAME:CST
DTSTART:20261025T070000
END:STANDARD
END:VTIMEZONE
BEGIN:VEVENT
DTSTART;VALUE=DATE:20251031
DTEND;VALUE=DATE:20251101
DTSTAMP:20260423T181839
CREATED:20250129T214559Z
LAST-MODIFIED:20250129T214559Z
UID:43899-1761868800-1761955199@hopewellbc.com
SUMMARY:Harvest Festival
DESCRIPTION:
URL:https://hopewellbc.com/event/harvest-festival-5/
END:VEVENT
BEGIN:VEVENT
DTSTART;VALUE=DATE:20251026
DTEND;VALUE=DATE:20251027
DTSTAMP:20260423T181839
CREATED:20250129T214559Z
LAST-MODIFIED:20250129T214559Z
UID:43898-1761436800-1761523199@hopewellbc.com
SUMMARY:Pumpkin Sunday
DESCRIPTION:
URL:https://hopewellbc.com/event/pumpkin-sunday-2/
END:VEVENT
BEGIN:VEVENT
DTSTART;VALUE=DATE:20251025
DTEND;VALUE=DATE:20251026
DTSTAMP:20260423T181839
CREATED:20240103T233038Z
LAST-MODIFIED:20250129T214559Z
UID:30289-1761350400-1761436799@hopewellbc.com
SUMMARY:Teen Activity
DESCRIPTION:
URL:https://hopewellbc.com/event/teen-activity-4/
END:VEVENT
BEGIN:VEVENT
DTSTART;VALUE=DATE:20251017
DTEND;VALUE=DATE:20251019
DTSTAMP:20260423T181839
CREATED:20250129T214558Z
LAST-MODIFIED:20250129T214558Z
UID:43897-1760659200-1760831999@hopewellbc.com
SUMMARY:12th Annual Mighty Men's Meeting with Dan Kirshner and Todd Lasseter
DESCRIPTION:
URL:https://hopewellbc.com/event/12th-annual-mighty-mens-meeting-with-dan-kirshner-and-todd-lasseter/
END:VEVENT
BEGIN:VEVENT
DTSTART;VALUE=DATE:20251012
DTEND;VALUE=DATE:20251013
DTSTAMP:20260423T181839
CREATED:20250129T214558Z
LAST-MODIFIED:20250129T214558Z
UID:43896-1760227200-1760313599@hopewellbc.com
SUMMARY:Missions Sunday with Pastor Adam Thompson
DESCRIPTION:
URL:https://hopewellbc.com/event/missions-sunday-with-pastor-adam-thompson/
END:VEVENT
BEGIN:VEVENT
DTSTART;VALUE=DATE:20250928
DTEND;VALUE=DATE:20250929
DTSTAMP:20260423T181839
CREATED:20250129T214556Z
LAST-MODIFIED:20250129T214556Z
UID:43895-1759017600-1759103999@hopewellbc.com
SUMMARY:Mental Health Sunday with Dr. George Crabb
DESCRIPTION:
URL:https://hopewellbc.com/event/mental-health-sunday-with-dr-george-crabb/
END:VEVENT
BEGIN:VEVENT
DTSTART;VALUE=DATE:20250921
DTEND;VALUE=DATE:20250922
DTSTAMP:20260423T181839
CREATED:20250129T214556Z
LAST-MODIFIED:20250129T214556Z
UID:43894-1758412800-1758499199@hopewellbc.com
SUMMARY:Western Sunday & Loaded Nachos Fellowship
DESCRIPTION:
URL:https://hopewellbc.com/event/western-sunday-loaded-nachos-fellowship/
END:VEVENT
BEGIN:VEVENT
DTSTART;VALUE=DATE:20250919
DTEND;VALUE=DATE:20250921
DTSTAMP:20260423T181839
CREATED:20250129T214556Z
LAST-MODIFIED:20250129T214556Z
UID:43893-1758240000-1758412799@hopewellbc.com
SUMMARY:Singles' Getaway in Long Beach\, CA
DESCRIPTION:
URL:https://hopewellbc.com/event/singles-getaway-in-long-beach-ca/
END:VEVENT
BEGIN:VEVENT
DTSTART;VALUE=DATE:20250914
DTEND;VALUE=DATE:20250915
DTSTAMP:20260423T181839
CREATED:20250129T214556Z
LAST-MODIFIED:20250129T214556Z
UID:43892-1757808000-1757894399@hopewellbc.com
SUMMARY:GAP Meeting (PM)
DESCRIPTION:
URL:https://hopewellbc.com/event/gap-meeting-pm-6/
END:VEVENT
BEGIN:VEVENT
DTSTART;VALUE=DATE:20250914
DTEND;VALUE=DATE:20250915
DTSTAMP:20260423T181839
CREATED:20250129T214555Z
LAST-MODIFIED:20250129T214555Z
UID:43891-1757808000-1757894399@hopewellbc.com
SUMMARY:Lord's Supper (AM)
DESCRIPTION:
URL:https://hopewellbc.com/event/lords-supper-am-5/
END:VEVENT
BEGIN:VEVENT
DTSTART;VALUE=DATE:20250912
DTEND;VALUE=DATE:20250914
DTSTAMP:20260423T181839
CREATED:20250129T214540Z
LAST-MODIFIED:20250129T214542Z
UID:43885-1757635200-1757807999@hopewellbc.com
SUMMARY:Ladies' Refresher in Manteca\, CA with Guest Speaker Jocelyn Troell
DESCRIPTION:
URL:https://hopewellbc.com/event/ladies-refresher-in-manteca-ca-with-guest-speaker-jocelyn-troell/
END:VEVENT
BEGIN:VEVENT
DTSTART;VALUE=DATE:20250907
DTEND;VALUE=DATE:20250908
DTSTAMP:20260423T181839
CREATED:20250129T214539Z
LAST-MODIFIED:20250129T214542Z
UID:43884-1757203200-1757289599@hopewellbc.com
SUMMARY:Grandparents' Sunday & Senior Luncheon
DESCRIPTION:
URL:https://hopewellbc.com/event/grandparents-sunday-senior-luncheon/
END:VEVENT
BEGIN:VEVENT
DTSTART;VALUE=DATE:20250905
DTEND;VALUE=DATE:20250907
DTSTAMP:20260423T181839
CREATED:20250129T214539Z
LAST-MODIFIED:20250129T214542Z
UID:43883-1757030400-1757203199@hopewellbc.com
SUMMARY:Married Couple's Getaway in Pleasanton\, CA with Bob and JoBeth Hooker
DESCRIPTION:
URL:https://hopewellbc.com/event/married-couples-getaway-in-pleasanton-ca-with-bob-and-jobeth-hooker/
END:VEVENT
BEGIN:VEVENT
DTSTART;VALUE=DATE:20250901
DTEND;VALUE=DATE:20250902
DTSTAMP:20260423T181839
CREATED:20250129T214539Z
LAST-MODIFIED:20250129T214542Z
UID:43882-1756684800-1756771199@hopewellbc.com
SUMMARY:Labor Day
DESCRIPTION:
URL:https://hopewellbc.com/event/labor-day-4/
END:VEVENT
BEGIN:VEVENT
DTSTART;VALUE=DATE:20250831
DTEND;VALUE=DATE:20250901
DTSTAMP:20260423T181839
CREATED:20250129T214539Z
LAST-MODIFIED:20250129T214541Z
UID:43881-1756598400-1756684799@hopewellbc.com
SUMMARY:Southern Home Cookin' Fellowship (PM)
DESCRIPTION:
URL:https://hopewellbc.com/event/southern-home-cookin-fellowship-pm-2/
END:VEVENT
BEGIN:VEVENT
DTSTART;VALUE=DATE:20250804
DTEND;VALUE=DATE:20250809
DTSTAMP:20260423T181839
CREATED:20250129T214537Z
LAST-MODIFIED:20250129T214537Z
UID:43879-1754265600-1754697599@hopewellbc.com
SUMMARY:Teen Camp
DESCRIPTION:
URL:https://hopewellbc.com/event/teen-camp/
END:VEVENT
BEGIN:VEVENT
DTSTART;VALUE=DATE:20250803
DTEND;VALUE=DATE:20250804
DTSTAMP:20260423T181839
CREATED:20250129T214537Z
LAST-MODIFIED:20250129T214537Z
UID:43880-1754179200-1754265599@hopewellbc.com
SUMMARY:Anniversary Sunday
DESCRIPTION:
URL:https://hopewellbc.com/event/anniversary-sunday-3/
END:VEVENT
BEGIN:VEVENT
DTSTART;VALUE=DATE:20250719
DTEND;VALUE=DATE:20250720
DTSTAMP:20260423T181839
CREATED:20250129T214537Z
LAST-MODIFIED:20250129T214537Z
UID:43878-1752883200-1752969599@hopewellbc.com
SUMMARY:Pastor's Birthday
DESCRIPTION:
URL:https://hopewellbc.com/event/pastors-birthday-3/
END:VEVENT
BEGIN:VEVENT
DTSTART;VALUE=DATE:20250716
DTEND;VALUE=DATE:20250717
DTSTAMP:20260423T181839
CREATED:20250129T214537Z
LAST-MODIFIED:20250129T214537Z
UID:43877-1752624000-1752710399@hopewellbc.com
SUMMARY:Guest Speaker
DESCRIPTION:
URL:https://hopewellbc.com/event/guest-speaker-10/
END:VEVENT
BEGIN:VEVENT
DTSTART;VALUE=DATE:20250713
DTEND;VALUE=DATE:20250714
DTSTAMP:20260423T181839
CREATED:20250129T214537Z
LAST-MODIFIED:20250129T214537Z
UID:43876-1752364800-1752451199@hopewellbc.com
SUMMARY:Hawaiian Sunday (Hawaiian Fried Rice PM Fellowship)
DESCRIPTION:
URL:https://hopewellbc.com/event/hawaiian-sunday-hawaiian-fried-rice-pm-fellowship-2/
END:VEVENT
BEGIN:VEVENT
DTSTART;VALUE=DATE:20250711
DTEND;VALUE=DATE:20250712
DTSTAMP:20260423T181839
CREATED:20250129T213333Z
LAST-MODIFIED:20250129T214023Z
UID:43855-1752192000-1752278399@hopewellbc.com
SUMMARY:Teen Sports Extravaganza
DESCRIPTION:
URL:https://hopewellbc.com/event/teen-sports-extravaganza-3/
END:VEVENT
BEGIN:VEVENT
DTSTART;VALUE=DATE:20250706
DTEND;VALUE=DATE:20250707
DTSTAMP:20260423T181839
CREATED:20250129T213333Z
LAST-MODIFIED:20250129T214023Z
UID:43854-1751760000-1751846399@hopewellbc.com
SUMMARY:Lord's Supper (PM)
DESCRIPTION:
URL:https://hopewellbc.com/event/lords-supper-pm-8/
END:VEVENT
BEGIN:VEVENT
DTSTART;VALUE=DATE:20250704
DTEND;VALUE=DATE:20250705
DTSTAMP:20260423T181839
CREATED:20250129T213333Z
LAST-MODIFIED:20250129T214023Z
UID:43853-1751587200-1751673599@hopewellbc.com
SUMMARY:Indpendence Day (Parades)
DESCRIPTION:
URL:https://hopewellbc.com/event/indpendence-day-parades-4/
END:VEVENT
BEGIN:VEVENT
DTSTART;VALUE=DATE:20250629
DTEND;VALUE=DATE:20250630
DTSTAMP:20260423T181839
CREATED:20250129T213333Z
LAST-MODIFIED:20250129T214023Z
UID:43852-1751155200-1751241599@hopewellbc.com
SUMMARY:Patriotic Sunday
DESCRIPTION:
URL:https://hopewellbc.com/event/patriotic-sunday-2/
END:VEVENT
BEGIN:VEVENT
DTSTART;VALUE=DATE:20250621
DTEND;VALUE=DATE:20250622
DTSTAMP:20260423T181839
CREATED:20250129T213333Z
LAST-MODIFIED:20250129T214023Z
UID:43851-1750464000-1750550399@hopewellbc.com
SUMMARY:Bus Worker's Breakfast Training
DESCRIPTION:
URL:https://hopewellbc.com/event/bus-workers-breakfast-training-2/
END:VEVENT
BEGIN:VEVENT
DTSTART;VALUE=DATE:20250616
DTEND;VALUE=DATE:20250620
DTSTAMP:20260423T181839
CREATED:20250129T213317Z
LAST-MODIFIED:20250129T214008Z
UID:43845-1750032000-1750377599@hopewellbc.com
SUMMARY:NVBC Youth Confernence (Teens)
DESCRIPTION:
URL:https://hopewellbc.com/event/nvbc-youth-confernence-teens-3/
END:VEVENT
BEGIN:VEVENT
DTSTART;VALUE=DATE:20250615
DTEND;VALUE=DATE:20250616
DTSTAMP:20260423T181839
CREATED:20250129T213317Z
LAST-MODIFIED:20250129T214008Z
UID:43844-1749945600-1750031999@hopewellbc.com
SUMMARY:Father's Day
DESCRIPTION:
URL:https://hopewellbc.com/event/fathers-day-5/
END:VEVENT
BEGIN:VEVENT
DTSTART;VALUE=DATE:20250608
DTEND;VALUE=DATE:20250609
DTSTAMP:20260423T181839
CREATED:20250129T213317Z
LAST-MODIFIED:20250129T214007Z
UID:43843-1749340800-1749427199@hopewellbc.com
SUMMARY:Outdoor Sunday BBQ Fellowship
DESCRIPTION:
URL:https://hopewellbc.com/event/outdoor-sunday-bbq-fellowship-2/
END:VEVENT
BEGIN:VEVENT
DTSTART;VALUE=DATE:20250601
DTEND;VALUE=DATE:20250602
DTSTAMP:20260423T181839
CREATED:20250129T213316Z
LAST-MODIFIED:20250129T214007Z
UID:43842-1748736000-1748822399@hopewellbc.com
SUMMARY:Senior's Luncheon
DESCRIPTION:
URL:https://hopewellbc.com/event/seniors-luncheon-5/
END:VEVENT
BEGIN:VEVENT
DTSTART;VALUE=DATE:20250528
DTEND;VALUE=DATE:20250529
DTSTAMP:20260423T181839
CREATED:20250129T213316Z
LAST-MODIFIED:20250129T214007Z
UID:43841-1748390400-1748476799@hopewellbc.com
SUMMARY:Guest Speaker
DESCRIPTION:
URL:https://hopewellbc.com/event/guest-speaker-9/
END:VEVENT
END:VCALENDAR