BEGIN:VCALENDAR
VERSION:2.0
PRODID:-//Hopewell Baptist Church - ECPv6.15.20//NONSGML v1.0//EN
CALSCALE:GREGORIAN
METHOD:PUBLISH
X-WR-CALNAME:Hopewell Baptist Church
X-ORIGINAL-URL:https://hopewellbc.com
X-WR-CALDESC:Events for Hopewell Baptist Church
REFRESH-INTERVAL;VALUE=DURATION:PT1H
X-Robots-Tag:noindex
X-PUBLISHED-TTL:PT1H
BEGIN:VTIMEZONE
TZID:America/Monterrey
BEGIN:DAYLIGHT
TZOFFSETFROM:-0600
TZOFFSETTO:-0500
TZNAME:CDT
DTSTART:20190407T080000
END:DAYLIGHT
BEGIN:STANDARD
TZOFFSETFROM:-0500
TZOFFSETTO:-0600
TZNAME:CST
DTSTART:20191027T070000
END:STANDARD
BEGIN:DAYLIGHT
TZOFFSETFROM:-0600
TZOFFSETTO:-0500
TZNAME:CDT
DTSTART:20200405T080000
END:DAYLIGHT
BEGIN:STANDARD
TZOFFSETFROM:-0500
TZOFFSETTO:-0600
TZNAME:CST
DTSTART:20201025T070000
END:STANDARD
BEGIN:DAYLIGHT
TZOFFSETFROM:-0600
TZOFFSETTO:-0500
TZNAME:CDT
DTSTART:20210404T080000
END:DAYLIGHT
BEGIN:STANDARD
TZOFFSETFROM:-0500
TZOFFSETTO:-0600
TZNAME:CST
DTSTART:20211031T070000
END:STANDARD
END:VTIMEZONE
BEGIN:VEVENT
DTSTART;VALUE=DATE:20201124
DTEND;VALUE=DATE:20201125
DTSTAMP:20260425T224229
CREATED:20200129T215436Z
LAST-MODIFIED:20200129T215436Z
UID:22272-1606176000-1606262399@hopewellbc.com
SUMMARY:PM Soul Winning
DESCRIPTION:
URL:https://hopewellbc.com/event/pm-soul-winning-7/
END:VEVENT
BEGIN:VEVENT
DTSTART;VALUE=DATE:20201111
DTEND;VALUE=DATE:20201113
DTSTAMP:20260425T224229
CREATED:20200129T215405Z
LAST-MODIFIED:20200129T215405Z
UID:22269-1605052800-1605225599@hopewellbc.com
SUMMARY:Best of the West Tournament in Sacramento\, CA
DESCRIPTION:
URL:https://hopewellbc.com/event/best-of-the-west-tournament-in-sacramento-ca/
END:VEVENT
BEGIN:VEVENT
DTSTART;VALUE=DATE:20201108
DTEND;VALUE=DATE:20201109
DTSTAMP:20260425T224229
CREATED:20200129T215336Z
LAST-MODIFIED:20200129T215336Z
UID:22267-1604793600-1604879999@hopewellbc.com
SUMMARY:Veteran's Sunday
DESCRIPTION:
URL:https://hopewellbc.com/event/veterans-sunday-3/
END:VEVENT
BEGIN:VEVENT
DTSTART;VALUE=DATE:20201101
DTEND;VALUE=DATE:20201102
DTSTAMP:20260425T224229
CREATED:20200129T215314Z
LAST-MODIFIED:20200129T215314Z
UID:22265-1604188800-1604275199@hopewellbc.com
SUMMARY:Fall Back Time Change
DESCRIPTION:
URL:https://hopewellbc.com/event/fall-back-time-change/
END:VEVENT
BEGIN:VEVENT
DTSTART;VALUE=DATE:20201031
DTEND;VALUE=DATE:20201101
DTSTAMP:20260425T224229
CREATED:20200129T215251Z
LAST-MODIFIED:20200129T215251Z
UID:22263-1604102400-1604188799@hopewellbc.com
SUMMARY:Harvest Festival
DESCRIPTION:
URL:https://hopewellbc.com/event/harvest-festival-4/
END:VEVENT
BEGIN:VEVENT
DTSTART;VALUE=DATE:20201023
DTEND;VALUE=DATE:20201025
DTSTAMP:20260425T224229
CREATED:20200129T215231Z
LAST-MODIFIED:20200129T215231Z
UID:22261-1603411200-1603583999@hopewellbc.com
SUMMARY:6th Annual Mighty Men's Conference\, Guest Speaker Pastor Terry Anglea
DESCRIPTION:
URL:https://hopewellbc.com/event/6th-annual-mighty-mens-conference-guest-speaker-pastor-terry-anglea/
END:VEVENT
BEGIN:VEVENT
DTSTART;VALUE=DATE:20201011
DTEND;VALUE=DATE:20201012
DTSTAMP:20260425T224229
CREATED:20200129T215140Z
LAST-MODIFIED:20200129T215140Z
UID:22259-1602374400-1602460799@hopewellbc.com
SUMMARY:Missions Sunday\, Guest Speaker Missionary Doug Sisson
DESCRIPTION:
URL:https://hopewellbc.com/event/missions-sunday-guest-speaker-missionary-doug-sisson/
END:VEVENT
BEGIN:VEVENT
DTSTART;VALUE=DATE:20201009
DTEND;VALUE=DATE:20201010
DTSTAMP:20260425T224229
CREATED:20200129T215107Z
LAST-MODIFIED:20200129T215107Z
UID:22257-1602201600-1602287999@hopewellbc.com
SUMMARY:Teen Corn Maze
DESCRIPTION:
URL:https://hopewellbc.com/event/teen-corn-maze/
END:VEVENT
BEGIN:VEVENT
DTSTART;VALUE=DATE:20200927
DTEND;VALUE=DATE:20200928
DTSTAMP:20260425T224229
CREATED:20200129T215045Z
LAST-MODIFIED:20200129T215045Z
UID:22255-1601164800-1601251199@hopewellbc.com
SUMMARY:Carnival Sunday
DESCRIPTION:
URL:https://hopewellbc.com/event/carnival-sunday-5/
END:VEVENT
BEGIN:VEVENT
DTSTART;VALUE=DATE:20200922
DTEND;VALUE=DATE:20200927
DTSTAMP:20260425T224229
CREATED:20200129T215026Z
LAST-MODIFIED:20200129T215026Z
UID:22253-1600732800-1601164799@hopewellbc.com
SUMMARY:Big Day Visiting for Carnival Sunday
DESCRIPTION:
URL:https://hopewellbc.com/event/big-day-visiting-for-carnival-sunday-2/
END:VEVENT
BEGIN:VEVENT
DTSTART;VALUE=DATE:20200918
DTEND;VALUE=DATE:20200920
DTSTAMP:20260425T224229
CREATED:20200129T214955Z
LAST-MODIFIED:20200129T214955Z
UID:22251-1600387200-1600559999@hopewellbc.com
SUMMARY:Married Couple's Getaway with Pastor Clint and Karen Caviness
DESCRIPTION:
URL:https://hopewellbc.com/event/married-couples-getaway-with-pastor-clint-and-karen-caviness-2/
END:VEVENT
BEGIN:VEVENT
DTSTART;VALUE=DATE:20200913
DTEND;VALUE=DATE:20200914
DTSTAMP:20260425T224229
CREATED:20200129T214909Z
LAST-MODIFIED:20200129T214909Z
UID:22249-1599955200-1600041599@hopewellbc.com
SUMMARY:Grandparent's Sunday
DESCRIPTION:
URL:https://hopewellbc.com/event/grandparents-sunday-2/
END:VEVENT
BEGIN:VEVENT
DTSTART;VALUE=DATE:20200911
DTEND;VALUE=DATE:20200912
DTSTAMP:20260425T224229
CREATED:20200129T214845Z
LAST-MODIFIED:20200129T214845Z
UID:22247-1599782400-1599868799@hopewellbc.com
SUMMARY:Teen Progressive Dinner and Glow Games
DESCRIPTION:
URL:https://hopewellbc.com/event/teen-progressive-dinner-and-glow-games/
END:VEVENT
BEGIN:VEVENT
DTSTART;VALUE=DATE:20200906
DTEND;VALUE=DATE:20200907
DTSTAMP:20260425T224229
CREATED:20200129T214820Z
LAST-MODIFIED:20200129T214820Z
UID:22245-1599350400-1599436799@hopewellbc.com
SUMMARY:Fall Attendance Campaign
DESCRIPTION:
URL:https://hopewellbc.com/event/fall-attendance-campaign/
END:VEVENT
BEGIN:VEVENT
DTSTART;VALUE=DATE:20200830
DTEND;VALUE=DATE:20200831
DTSTAMP:20260425T224229
CREATED:20200129T214753Z
LAST-MODIFIED:20200129T214753Z
UID:22243-1598745600-1598831999@hopewellbc.com
SUMMARY:Western Sunday
DESCRIPTION:
URL:https://hopewellbc.com/event/western-sunday-4/
END:VEVENT
BEGIN:VEVENT
DTSTART;VALUE=DATE:20200821
DTEND;VALUE=DATE:20200822
DTSTAMP:20260425T224229
CREATED:20200129T214732Z
LAST-MODIFIED:20200129T214732Z
UID:22241-1597968000-1598054399@hopewellbc.com
SUMMARY:Teen Beach Bonfire
DESCRIPTION:
URL:https://hopewellbc.com/event/teen-beach-bonfire-5/
END:VEVENT
BEGIN:VEVENT
DTSTART;VALUE=DATE:20200803
DTEND;VALUE=DATE:20200808
DTSTAMP:20260425T224229
CREATED:20200129T214710Z
LAST-MODIFIED:20200129T214710Z
UID:22239-1596412800-1596844799@hopewellbc.com
SUMMARY:Mt. Zion Baptist Junior and Teen Camp
DESCRIPTION:
URL:https://hopewellbc.com/event/mt-zion-baptist-junior-and-teen-camp-3/
END:VEVENT
BEGIN:VEVENT
DTSTART;VALUE=DATE:20200729
DTEND;VALUE=DATE:20200730
DTSTAMP:20260425T224229
CREATED:20200129T214623Z
LAST-MODIFIED:20200129T214623Z
UID:22237-1595980800-1596067199@hopewellbc.com
SUMMARY:Guest Speaker
DESCRIPTION:
URL:https://hopewellbc.com/event/guest-speaker-6/
END:VEVENT
BEGIN:VEVENT
DTSTART;VALUE=DATE:20200726
DTEND;VALUE=DATE:20200727
DTSTAMP:20260425T224229
CREATED:20200129T214604Z
LAST-MODIFIED:20200129T214604Z
UID:22235-1595721600-1595807999@hopewellbc.com
SUMMARY:Pastor and Family's 34th Church Anniversary
DESCRIPTION:
URL:https://hopewellbc.com/event/pastor-and-familys-34th-church-anniversary/
END:VEVENT
BEGIN:VEVENT
DTSTART;VALUE=DATE:20200725
DTEND;VALUE=DATE:20200726
DTSTAMP:20260425T224229
CREATED:20200129T214528Z
LAST-MODIFIED:20200129T214528Z
UID:22233-1595635200-1595721599@hopewellbc.com
SUMMARY:Camp Car Wash
DESCRIPTION:
URL:https://hopewellbc.com/event/camp-car-wash/
END:VEVENT
BEGIN:VEVENT
DTSTART;VALUE=DATE:20200722
DTEND;VALUE=DATE:20200723
DTSTAMP:20260425T224229
CREATED:20200129T214508Z
LAST-MODIFIED:20200129T214508Z
UID:22231-1595376000-1595462399@hopewellbc.com
SUMMARY:Guest Speaker Pastor Ely Reynolds
DESCRIPTION:
URL:https://hopewellbc.com/event/guest-speaker-pastor-ely-reynolds-2/
END:VEVENT
BEGIN:VEVENT
DTSTART;VALUE=DATE:20200720
DTEND;VALUE=DATE:20200721
DTSTAMP:20260425T224229
CREATED:20200129T214239Z
LAST-MODIFIED:20200129T214239Z
UID:22227-1595203200-1595289599@hopewellbc.com
SUMMARY:Dad's and Daughter's Date Night
DESCRIPTION:
URL:https://hopewellbc.com/event/dads-and-daughters-date-night/
END:VEVENT
BEGIN:VEVENT
DTSTART;VALUE=DATE:20200719
DTEND;VALUE=DATE:20200720
DTSTAMP:20260425T224229
CREATED:20200129T214215Z
LAST-MODIFIED:20200129T214215Z
UID:22225-1595116800-1595203199@hopewellbc.com
SUMMARY:Pastor Ray's Birthday
DESCRIPTION:
URL:https://hopewellbc.com/event/pastor-rays-birthday-3/
END:VEVENT
BEGIN:VEVENT
DTSTART;VALUE=DATE:20200714
DTEND;VALUE=DATE:20200715
DTSTAMP:20260425T224229
CREATED:20200129T214157Z
LAST-MODIFIED:20200129T214157Z
UID:22223-1594684800-1594771199@hopewellbc.com
SUMMARY:Teen Rafting Trip
DESCRIPTION:
URL:https://hopewellbc.com/event/teen-rafting-trip-2/
END:VEVENT
BEGIN:VEVENT
DTSTART;VALUE=DATE:20200712
DTEND;VALUE=DATE:20200713
DTSTAMP:20260425T224229
CREATED:20200129T214137Z
LAST-MODIFIED:20200129T214137Z
UID:22221-1594512000-1594598399@hopewellbc.com
SUMMARY:Hawaiian Sunday
DESCRIPTION:
URL:https://hopewellbc.com/event/hawaiian-sunday-4/
END:VEVENT
BEGIN:VEVENT
DTSTART;VALUE=DATE:20200708
DTEND;VALUE=DATE:20200709
DTSTAMP:20260425T224229
CREATED:20200129T214117Z
LAST-MODIFIED:20200129T214315Z
UID:22219-1594166400-1594252799@hopewellbc.com
SUMMARY:Guest Speaker Pastor Darren Robinson
DESCRIPTION:
URL:https://hopewellbc.com/event/guest-speaker-darren-robinson/
END:VEVENT
BEGIN:VEVENT
DTSTART;VALUE=DATE:20200704
DTEND;VALUE=DATE:20200705
DTSTAMP:20260425T224229
CREATED:20200129T214054Z
LAST-MODIFIED:20200129T214054Z
UID:22217-1593820800-1593907199@hopewellbc.com
SUMMARY:Independence Day Parades
DESCRIPTION:
URL:https://hopewellbc.com/event/independence-day-parades/
END:VEVENT
BEGIN:VEVENT
DTSTART;VALUE=DATE:20200629
DTEND;VALUE=DATE:20200703
DTSTAMP:20260425T224229
CREATED:20200129T214030Z
LAST-MODIFIED:20200129T214030Z
UID:22215-1593388800-1593734399@hopewellbc.com
SUMMARY:Backyard Bible Clubs and Soul Winning Marathon
DESCRIPTION:
URL:https://hopewellbc.com/event/backyard-bible-clubs-and-soul-winning-marathon/
END:VEVENT
BEGIN:VEVENT
DTSTART;VALUE=DATE:20200628
DTEND;VALUE=DATE:20200629
DTSTAMP:20260425T224229
CREATED:20200129T213938Z
LAST-MODIFIED:20200129T213938Z
UID:22213-1593302400-1593388799@hopewellbc.com
SUMMARY:I Love America Sunday
DESCRIPTION:
URL:https://hopewellbc.com/event/i-love-america-sunday-3/
END:VEVENT
BEGIN:VEVENT
DTSTART;VALUE=DATE:20200624
DTEND;VALUE=DATE:20200625
DTSTAMP:20260425T224229
CREATED:20200129T213918Z
LAST-MODIFIED:20200129T213918Z
UID:22211-1592956800-1593043199@hopewellbc.com
SUMMARY:Guest Speaker
DESCRIPTION:
URL:https://hopewellbc.com/event/guest-speaker-5/
END:VEVENT
END:VCALENDAR