BEGIN:VCALENDAR
VERSION:2.0
PRODID:-//Hopewell Baptist Church - ECPv6.15.20//NONSGML v1.0//EN
CALSCALE:GREGORIAN
METHOD:PUBLISH
X-WR-CALNAME:Hopewell Baptist Church
X-ORIGINAL-URL:https://hopewellbc.com
X-WR-CALDESC:Events for Hopewell Baptist Church
REFRESH-INTERVAL;VALUE=DURATION:PT1H
X-Robots-Tag:noindex
X-PUBLISHED-TTL:PT1H
BEGIN:VTIMEZONE
TZID:America/Monterrey
BEGIN:DAYLIGHT
TZOFFSETFROM:-0600
TZOFFSETTO:-0500
TZNAME:CDT
DTSTART:20200405T080000
END:DAYLIGHT
BEGIN:STANDARD
TZOFFSETFROM:-0500
TZOFFSETTO:-0600
TZNAME:CST
DTSTART:20201025T070000
END:STANDARD
BEGIN:DAYLIGHT
TZOFFSETFROM:-0600
TZOFFSETTO:-0500
TZNAME:CDT
DTSTART:20210404T080000
END:DAYLIGHT
BEGIN:STANDARD
TZOFFSETFROM:-0500
TZOFFSETTO:-0600
TZNAME:CST
DTSTART:20211031T070000
END:STANDARD
BEGIN:DAYLIGHT
TZOFFSETFROM:-0600
TZOFFSETTO:-0500
TZNAME:CDT
DTSTART:20220403T080000
END:DAYLIGHT
BEGIN:STANDARD
TZOFFSETFROM:-0500
TZOFFSETTO:-0600
TZNAME:CST
DTSTART:20221030T070000
END:STANDARD
END:VTIMEZONE
BEGIN:VEVENT
DTSTART;TZID=America/Monterrey:20210829T173000
DTEND;TZID=America/Monterrey:20210829T180000
DTSTAMP:20260425T112501
CREATED:20210121T003518Z
LAST-MODIFIED:20210121T003518Z
UID:24811-1630258200-1630260000@hopewellbc.com
SUMMARY:PM Worker's Training
DESCRIPTION:
URL:https://hopewellbc.com/event/pm-workers-training-4/
END:VEVENT
BEGIN:VEVENT
DTSTART;VALUE=DATE:20210822
DTEND;VALUE=DATE:20210823
DTSTAMP:20260425T112501
CREATED:20210121T003453Z
LAST-MODIFIED:20210121T003453Z
UID:24804-1629590400-1629676799@hopewellbc.com
SUMMARY:PM G.A.P. Meeting
DESCRIPTION:
URL:https://hopewellbc.com/event/pm-g-a-p-meeting-3/
END:VEVENT
BEGIN:VEVENT
DTSTART;VALUE=DATE:20210815
DTEND;VALUE=DATE:20210816
DTSTAMP:20260425T112501
CREATED:20210121T003427Z
LAST-MODIFIED:20210121T003427Z
UID:24810-1628985600-1629071999@hopewellbc.com
SUMMARY:Western Sunday
DESCRIPTION:Potluck during the evening service
URL:https://hopewellbc.com/event/western-sunday-5/
END:VEVENT
BEGIN:VEVENT
DTSTART;VALUE=DATE:20210802
DTEND;VALUE=DATE:20210807
DTSTAMP:20260425T112501
CREATED:20210121T003404Z
LAST-MODIFIED:20210121T003404Z
UID:24809-1627862400-1628294399@hopewellbc.com
SUMMARY:Mt. Zion Baptist Junior and Teen Camp
DESCRIPTION:
URL:https://hopewellbc.com/event/mt-zion-baptist-junior-and-teen-camp-4/
END:VEVENT
BEGIN:VEVENT
DTSTART;VALUE=DATE:20210801
DTEND;VALUE=DATE:20210802
DTSTAMP:20260425T112501
CREATED:20210121T003255Z
LAST-MODIFIED:20210121T003255Z
UID:24780-1627776000-1627862399@hopewellbc.com
SUMMARY:Pastor and Mrs. Ray's 35th Anniversary at Hopewell
DESCRIPTION:
URL:https://hopewellbc.com/event/pastor-and-mrs-rays-35th-anniversary-at-hopewell/
END:VEVENT
BEGIN:VEVENT
DTSTART;TZID=America/Monterrey:20210725T173000
DTEND;TZID=America/Monterrey:20210725T180000
DTSTAMP:20260425T112501
CREATED:20210121T003224Z
LAST-MODIFIED:20210121T003224Z
UID:24777-1627234200-1627236000@hopewellbc.com
SUMMARY:PM Worker's Training
DESCRIPTION:
URL:https://hopewellbc.com/event/pm-workers-training-3/
END:VEVENT
BEGIN:VEVENT
DTSTART;VALUE=DATE:20210721
DTEND;VALUE=DATE:20210722
DTSTAMP:20260425T112501
CREATED:20210121T003159Z
LAST-MODIFIED:20210121T003159Z
UID:24784-1626825600-1626911999@hopewellbc.com
SUMMARY:Guest Speaker - Pastor Dalzell
DESCRIPTION:
URL:https://hopewellbc.com/event/guest-speaker-pastor-dalzell/
END:VEVENT
BEGIN:VEVENT
DTSTART;VALUE=DATE:20210719
DTEND;VALUE=DATE:20210720
DTSTAMP:20260425T112501
CREATED:20210121T003127Z
LAST-MODIFIED:20210121T003127Z
UID:24779-1626652800-1626739199@hopewellbc.com
SUMMARY:Pastor Ray's Birthday
DESCRIPTION:
URL:https://hopewellbc.com/event/pastor-rays-birthday-4/
END:VEVENT
BEGIN:VEVENT
DTSTART;VALUE=DATE:20210718
DTEND;VALUE=DATE:20210719
DTSTAMP:20260425T112501
CREATED:20210121T003059Z
LAST-MODIFIED:20210121T003059Z
UID:24778-1626566400-1626652799@hopewellbc.com
SUMMARY:Hawaiian Sunday
DESCRIPTION:
URL:https://hopewellbc.com/event/hawaiian-sunday-5/
END:VEVENT
BEGIN:VEVENT
DTSTART;VALUE=DATE:20210704
DTEND;VALUE=DATE:20210705
DTSTAMP:20260425T112501
CREATED:20210121T003042Z
LAST-MODIFIED:20210121T003042Z
UID:24774-1625356800-1625443199@hopewellbc.com
SUMMARY:Independence Sunday
DESCRIPTION:
URL:https://hopewellbc.com/event/independence-sunday/
END:VEVENT
BEGIN:VEVENT
DTSTART;VALUE=DATE:20210628
DTEND;VALUE=DATE:20210701
DTSTAMP:20260425T112501
CREATED:20210121T003011Z
LAST-MODIFIED:20210121T003011Z
UID:24776-1624838400-1625097599@hopewellbc.com
SUMMARY:Backyard Bible Clubs and Soul Winning Marathon
DESCRIPTION:
URL:https://hopewellbc.com/event/backyard-bible-clubs-and-soul-winning-marathon-2/
END:VEVENT
BEGIN:VEVENT
DTSTART;TZID=America/Monterrey:20210627T173000
DTEND;TZID=America/Monterrey:20210627T180000
DTSTAMP:20260425T112501
CREATED:20210121T002945Z
LAST-MODIFIED:20210121T002945Z
UID:24782-1624815000-1624816800@hopewellbc.com
SUMMARY:PM Worker's Training
DESCRIPTION:
URL:https://hopewellbc.com/event/pm-workers-training-2/
END:VEVENT
BEGIN:VEVENT
DTSTART;VALUE=DATE:20210621
DTEND;VALUE=DATE:20210625
DTSTAMP:20260425T112501
CREATED:20210121T002919Z
LAST-MODIFIED:20210121T002919Z
UID:24783-1624233600-1624579199@hopewellbc.com
SUMMARY:Teen Conference in Santa Clara\, CA
DESCRIPTION:
URL:https://hopewellbc.com/event/teen-conference-in-santa-clara-ca-4/
LOCATION:North Valley Baptist Church\, 3530 De La Cruz Blvd\, Santa Clara\, 95054\, United States
END:VEVENT
BEGIN:VEVENT
DTSTART;VALUE=DATE:20210620
DTEND;VALUE=DATE:20210621
DTSTAMP:20260425T112501
CREATED:20210121T002853Z
LAST-MODIFIED:20210121T002853Z
UID:24775-1624147200-1624233599@hopewellbc.com
SUMMARY:Happy Father's Day
DESCRIPTION:
URL:https://hopewellbc.com/event/happy-fathers-day/
END:VEVENT
BEGIN:VEVENT
DTSTART;TZID=America/Monterrey:20210614T180000
DTEND;TZID=America/Monterrey:20210614T200000
DTSTAMP:20260425T112501
CREATED:20210121T002835Z
LAST-MODIFIED:20210121T002835Z
UID:24773-1623693600-1623700800@hopewellbc.com
SUMMARY:Ladies' and Teen Girl's Shopping Trip
DESCRIPTION:
URL:https://hopewellbc.com/event/ladies-and-teen-girls-shopping-trip-2/
END:VEVENT
BEGIN:VEVENT
DTSTART;TZID=America/Monterrey:20210612T160000
DTEND;TZID=America/Monterrey:20210612T180000
DTSTAMP:20260425T112501
CREATED:20210121T002801Z
LAST-MODIFIED:20210121T002801Z
UID:24781-1623513600-1623520800@hopewellbc.com
SUMMARY:Dad's and Lad's BBQ
DESCRIPTION:Activities – 4 PM\nMeal – 5 PM
URL:https://hopewellbc.com/event/dads-and-lads-bbq-3/
LOCATION:Hopewell Baptist Church\, 3755 Linda Vista Ave.\, Napa\, CA\, 94558\, United States
END:VEVENT
BEGIN:VEVENT
DTSTART;VALUE=DATE:20210531
DTEND;VALUE=DATE:20210601
DTSTAMP:20260425T112501
CREATED:20210121T002659Z
LAST-MODIFIED:20210121T002659Z
UID:24772-1622419200-1622505599@hopewellbc.com
SUMMARY:Memorial Day Men's Golf Tournament\, Softball Game\, and Picnic
DESCRIPTION:
URL:https://hopewellbc.com/event/memorial-day-mens-golf-tournament-softball-game-and-picnic-2/
END:VEVENT
BEGIN:VEVENT
DTSTART;TZID=America/Monterrey:20210530T173000
DTEND;TZID=America/Monterrey:20210530T180000
DTSTAMP:20260425T112501
CREATED:20210121T002621Z
LAST-MODIFIED:20210121T002621Z
UID:24771-1622395800-1622397600@hopewellbc.com
SUMMARY:PM Worker's Training
DESCRIPTION:
URL:https://hopewellbc.com/event/pm-workers-training/
END:VEVENT
BEGIN:VEVENT
DTSTART;TZID=America/Monterrey:20210526T190000
DTEND;TZID=America/Monterrey:20210526T190000
DTSTAMP:20260425T112501
CREATED:20210121T002552Z
LAST-MODIFIED:20210121T002552Z
UID:24770-1622055600-1622055600@hopewellbc.com
SUMMARY:H.B.C.A. Graduation and Awards Night
DESCRIPTION:
URL:https://hopewellbc.com/event/h-b-c-a-graduation-and-awards-night-2/
LOCATION:Hopewell Baptist Church\, 3755 Linda Vista Ave.\, Napa\, CA\, 94558\, United States
END:VEVENT
BEGIN:VEVENT
DTSTART;VALUE=DATE:20210509
DTEND;VALUE=DATE:20210510
DTSTAMP:20260425T112501
CREATED:20210121T002421Z
LAST-MODIFIED:20210121T002421Z
UID:24753-1620518400-1620604799@hopewellbc.com
SUMMARY:Happy Mother's Day!
DESCRIPTION:
URL:https://hopewellbc.com/event/happy-mothers-day/
END:VEVENT
BEGIN:VEVENT
DTSTART;TZID=America/Monterrey:20210506T183000
DTEND;TZID=America/Monterrey:20210506T200000
DTSTAMP:20260425T112501
CREATED:20210121T002405Z
LAST-MODIFIED:20210121T002405Z
UID:24750-1620325800-1620331200@hopewellbc.com
SUMMARY:Mother\, Daughter\, and Friend Banquet
DESCRIPTION:Theme: A Pirate’s Life for Me\nGuest Speaker: Faith Reynolds
URL:https://hopewellbc.com/event/mother-daughter-and-friend-banquet-2/
LOCATION:Hopewell Baptist Church\, 3755 Linda Vista Ave.\, Napa\, CA\, 94558\, United States
END:VEVENT
BEGIN:VEVENT
DTSTART;TZID=America/Monterrey:20210418T173000
DTEND;TZID=America/Monterrey:20210418T180000
DTSTAMP:20260425T112501
CREATED:20210121T002226Z
LAST-MODIFIED:20210121T002226Z
UID:24755-1618767000-1618768800@hopewellbc.com
SUMMARY:PM Worker's Meeting
DESCRIPTION:
URL:https://hopewellbc.com/event/pm-workers-meeting/
END:VEVENT
BEGIN:VEVENT
DTSTART;VALUE=DATE:20210411
DTEND;VALUE=DATE:20210412
DTSTAMP:20260425T112501
CREATED:20210121T002159Z
LAST-MODIFIED:20210121T002159Z
UID:24749-1618099200-1618185599@hopewellbc.com
SUMMARY:PM G.A.P. Meeting
DESCRIPTION:
URL:https://hopewellbc.com/event/pm-g-a-p-meeting-2/
END:VEVENT
BEGIN:VEVENT
DTSTART;VALUE=DATE:20210404
DTEND;VALUE=DATE:20210405
DTSTAMP:20260425T112501
CREATED:20210121T002132Z
LAST-MODIFIED:20210121T002132Z
UID:24754-1617494400-1617580799@hopewellbc.com
SUMMARY:Easter
DESCRIPTION:
URL:https://hopewellbc.com/event/easter/
END:VEVENT
BEGIN:VEVENT
DTSTART;VALUE=DATE:20210328
DTEND;VALUE=DATE:20210329
DTSTAMP:20260425T112501
CREATED:20210121T002029Z
LAST-MODIFIED:20210121T002029Z
UID:24747-1616889600-1616975999@hopewellbc.com
SUMMARY:Spring Attendance Campaign Begins
DESCRIPTION:
URL:https://hopewellbc.com/event/spring-attendance-campaign-begins-2/
END:VEVENT
BEGIN:VEVENT
DTSTART;VALUE=DATE:20210321
DTEND;VALUE=DATE:20210322
DTSTAMP:20260425T112501
CREATED:20210121T002010Z
LAST-MODIFIED:20210121T002010Z
UID:24748-1616284800-1616371199@hopewellbc.com
SUMMARY:Seniors Luncheon After PM Service
DESCRIPTION:
URL:https://hopewellbc.com/event/seniors-luncheon-after-pm-service/
LOCATION:Hopewell Baptist Church\, 3755 Linda Vista Ave.\, Napa\, CA\, 94558\, United States
END:VEVENT
BEGIN:VEVENT
DTSTART;VALUE=DATE:20210320
DTEND;VALUE=DATE:20210321
DTSTAMP:20260425T112501
CREATED:20210121T002052Z
LAST-MODIFIED:20210121T002052Z
UID:24752-1616198400-1616284799@hopewellbc.com
SUMMARY:Teen Mini Golf Tournament
DESCRIPTION:
URL:https://hopewellbc.com/event/teen-mini-golf-tournament/
END:VEVENT
BEGIN:VEVENT
DTSTART;VALUE=DATE:20210314
DTEND;VALUE=DATE:20210315
DTSTAMP:20260425T112501
CREATED:20210121T001945Z
LAST-MODIFIED:20210121T001945Z
UID:24751-1615680000-1615766399@hopewellbc.com
SUMMARY:Time Change - Spring Forward
DESCRIPTION:
URL:https://hopewellbc.com/event/time-change-spring-forward/
END:VEVENT
BEGIN:VEVENT
DTSTART;VALUE=DATE:20210308
DTEND;VALUE=DATE:20210311
DTSTAMP:20260425T112501
CREATED:20210121T001919Z
LAST-MODIFIED:20210121T001919Z
UID:24746-1615161600-1615420799@hopewellbc.com
SUMMARY:Pastor's and Worker's Conference in Santa Clara\, CA
DESCRIPTION:
URL:https://hopewellbc.com/event/pastors-and-workers-conference-in-santa-clara-ca-3/
LOCATION:North Valley Baptist Church\, 3530 De La Cruz Blvd\, Santa Clara\, 95054\, United States
END:VEVENT
BEGIN:VEVENT
DTSTART;TZID=America/Monterrey:20210222T180000
DTEND;TZID=America/Monterrey:20210222T200000
DTSTAMP:20260425T112501
CREATED:20210121T001838Z
LAST-MODIFIED:20210121T001838Z
UID:24745-1614016800-1614024000@hopewellbc.com
SUMMARY:Ladies' Conference 2022 Planning Meeting
DESCRIPTION:
URL:https://hopewellbc.com/event/ladies-conference-2022-planning-meeting/
END:VEVENT
END:VCALENDAR