BEGIN:VCALENDAR
VERSION:2.0
PRODID:-//Hopewell Baptist Church - ECPv6.15.20//NONSGML v1.0//EN
CALSCALE:GREGORIAN
METHOD:PUBLISH
X-WR-CALNAME:Hopewell Baptist Church
X-ORIGINAL-URL:https://hopewellbc.com
X-WR-CALDESC:Events for Hopewell Baptist Church
REFRESH-INTERVAL;VALUE=DURATION:PT1H
X-Robots-Tag:noindex
X-PUBLISHED-TTL:PT1H
BEGIN:VTIMEZONE
TZID:America/Monterrey
BEGIN:DAYLIGHT
TZOFFSETFROM:-0600
TZOFFSETTO:-0500
TZNAME:CDT
DTSTART:20210404T080000
END:DAYLIGHT
BEGIN:STANDARD
TZOFFSETFROM:-0500
TZOFFSETTO:-0600
TZNAME:CST
DTSTART:20211031T070000
END:STANDARD
BEGIN:DAYLIGHT
TZOFFSETFROM:-0600
TZOFFSETTO:-0500
TZNAME:CDT
DTSTART:20220403T080000
END:DAYLIGHT
BEGIN:STANDARD
TZOFFSETFROM:-0500
TZOFFSETTO:-0600
TZNAME:CST
DTSTART:20221030T070000
END:STANDARD
BEGIN:DAYLIGHT
TZOFFSETFROM:-0600
TZOFFSETTO:-0500
TZNAME:CDT
DTSTART:20230402T080000
END:DAYLIGHT
BEGIN:STANDARD
TZOFFSETFROM:-0500
TZOFFSETTO:-0600
TZNAME:CST
DTSTART:20231029T070000
END:STANDARD
BEGIN:DAYLIGHT
TZOFFSETFROM:-0600
TZOFFSETTO:-0500
TZNAME:CDT
DTSTART:20240407T080000
END:DAYLIGHT
BEGIN:STANDARD
TZOFFSETFROM:-0500
TZOFFSETTO:-0600
TZNAME:CST
DTSTART:20241027T070000
END:STANDARD
END:VTIMEZONE
BEGIN:VEVENT
DTSTART;TZID=America/Monterrey:20230618T000000
DTEND;TZID=America/Monterrey:20230618T000000
DTSTAMP:20260425T062322
CREATED:20230615T220539Z
LAST-MODIFIED:20230615T220539Z
UID:29418-1687046400-1687046400@hopewellbc.com
SUMMARY:Father's Day
DESCRIPTION:
URL:https://hopewellbc.com/event/fathers-day-2/
END:VEVENT
BEGIN:VEVENT
DTSTART;TZID=America/Monterrey:20230617T000000
DTEND;TZID=America/Monterrey:20230617T000000
DTSTAMP:20260425T062322
CREATED:20230615T220539Z
LAST-MODIFIED:20230615T220539Z
UID:29417-1686960000-1686960000@hopewellbc.com
SUMMARY:Dad's and Lad's BBQ
DESCRIPTION:
URL:https://hopewellbc.com/event/dads-and-lads-bbq-4/
END:VEVENT
BEGIN:VEVENT
DTSTART;VALUE=DATE:20230223
DTEND;VALUE=DATE:20230226
DTSTAMP:20260425T062322
CREATED:20230220T183954Z
LAST-MODIFIED:20230220T183954Z
UID:28946-1677110400-1677369599@hopewellbc.com
SUMMARY:31st Annual California Baptist Ladies' Conference
DESCRIPTION:
URL:https://hopewellbc.com/event/31st-annual-california-baptist-ladies-conference/
LOCATION:Hopewell Baptist Church\, 3755 Linda Vista Ave.\, Napa\, CA\, 94558\, United States
END:VEVENT
BEGIN:VEVENT
DTSTART;TZID=America/Monterrey:20230102T000000
DTEND;TZID=America/Monterrey:20230113T000000
DTSTAMP:20260425T062322
CREATED:20220117T193407Z
LAST-MODIFIED:20220117T193407Z
UID:27357-1672617600-1673568000@hopewellbc.com
SUMMARY:Holy Land Israel & Rome Trip
DESCRIPTION:
URL:https://hopewellbc.com/event/holy-land-israel-rome-trip/
END:VEVENT
BEGIN:VEVENT
DTSTART;VALUE=DATE:20230101
DTEND;VALUE=DATE:20230102
DTSTAMP:20260425T062322
CREATED:20220117T193407Z
LAST-MODIFIED:20220117T193407Z
UID:27356-1672531200-1672617599@hopewellbc.com
SUMMARY:New Year's Day
DESCRIPTION:
URL:https://hopewellbc.com/event/new-years-day/
END:VEVENT
BEGIN:VEVENT
DTSTART;VALUE=DATE:20221231
DTEND;VALUE=DATE:20230101
DTSTAMP:20260425T062322
CREATED:20220117T193407Z
LAST-MODIFIED:20220117T193407Z
UID:27355-1672444800-1672531199@hopewellbc.com
SUMMARY:New Year's Eve
DESCRIPTION:
URL:https://hopewellbc.com/event/new-years-eve/
END:VEVENT
BEGIN:VEVENT
DTSTART;TZID=America/Monterrey:20221225T110000
DTEND;TZID=America/Monterrey:20221225T110000
DTSTAMP:20260425T062322
CREATED:20220117T193406Z
LAST-MODIFIED:20220117T193406Z
UID:27354-1671966000-1671966000@hopewellbc.com
SUMMARY:Christmas
DESCRIPTION:
URL:https://hopewellbc.com/event/christmas/
END:VEVENT
BEGIN:VEVENT
DTSTART;TZID=America/Monterrey:20221211T180000
DTEND;TZID=America/Monterrey:20221211T180000
DTSTAMP:20260425T062322
CREATED:20220117T193347Z
LAST-MODIFIED:20220117T193347Z
UID:27352-1670781600-1670781600@hopewellbc.com
SUMMARY:Children's Christmas Program
DESCRIPTION:
URL:https://hopewellbc.com/event/childrens-christmas-program/
END:VEVENT
BEGIN:VEVENT
DTSTART;VALUE=DATE:20221209
DTEND;VALUE=DATE:20221210
DTSTAMP:20260425T062322
CREATED:20220117T193347Z
LAST-MODIFIED:20220117T193347Z
UID:27351-1670544000-1670630399@hopewellbc.com
SUMMARY:Teen Christmas Activity
DESCRIPTION:
URL:https://hopewellbc.com/event/teen-christmas-activity/
END:VEVENT
BEGIN:VEVENT
DTSTART;VALUE=DATE:20221206
DTEND;VALUE=DATE:20221207
DTSTAMP:20260425T062322
CREATED:20220117T193347Z
LAST-MODIFIED:20220117T193347Z
UID:27350-1670284800-1670371199@hopewellbc.com
SUMMARY:Ladies' Christmas Activity
DESCRIPTION:
URL:https://hopewellbc.com/event/ladies-christmas-activity/
END:VEVENT
BEGIN:VEVENT
DTSTART;TZID=America/Monterrey:20221204T180000
DTEND;TZID=America/Monterrey:20221204T180000
DTSTAMP:20260425T062322
CREATED:20220117T193347Z
LAST-MODIFIED:20220117T193347Z
UID:27349-1670176800-1670176800@hopewellbc.com
SUMMARY:Lord's Supper in Evening Service
DESCRIPTION:
URL:https://hopewellbc.com/event/lords-supper-in-evening-service-3/
END:VEVENT
BEGIN:VEVENT
DTSTART;TZID=America/Monterrey:20221203T100000
DTEND;TZID=America/Monterrey:20221203T100000
DTSTAMP:20260425T062322
CREATED:20220117T193347Z
LAST-MODIFIED:20220117T193347Z
UID:27348-1670061600-1670061600@hopewellbc.com
SUMMARY:Bring the Light Soul Winning
DESCRIPTION:
URL:https://hopewellbc.com/event/bring-the-light-soul-winning-12/
END:VEVENT
BEGIN:VEVENT
DTSTART;VALUE=DATE:20221129
DTEND;VALUE=DATE:20221130
DTSTAMP:20260425T062322
CREATED:20220117T193328Z
LAST-MODIFIED:20220117T193328Z
UID:27347-1669680000-1669766399@hopewellbc.com
SUMMARY:Mrs. Ray's Birthday
DESCRIPTION:
URL:https://hopewellbc.com/event/mrs-rays-birthday/
END:VEVENT
BEGIN:VEVENT
DTSTART;VALUE=DATE:20221128
DTEND;VALUE=DATE:20221129
DTSTAMP:20260425T062322
CREATED:20220117T193328Z
LAST-MODIFIED:20220117T193328Z
UID:27346-1669593600-1669679999@hopewellbc.com
SUMMARY:Decorate the Church for Christmas
DESCRIPTION:
URL:https://hopewellbc.com/event/decorate-the-church-for-christmas/
END:VEVENT
BEGIN:VEVENT
DTSTART;VALUE=DATE:20221126
DTEND;VALUE=DATE:20221127
DTSTAMP:20260425T062322
CREATED:20220117T193328Z
LAST-MODIFIED:20220117T193328Z
UID:27345-1669420800-1669507199@hopewellbc.com
SUMMARY:Christmas Parade
DESCRIPTION:
URL:https://hopewellbc.com/event/christmas-parade-2/
END:VEVENT
BEGIN:VEVENT
DTSTART;VALUE=DATE:20221124
DTEND;VALUE=DATE:20221125
DTSTAMP:20260425T062322
CREATED:20220117T193328Z
LAST-MODIFIED:20220117T193328Z
UID:27344-1669248000-1669334399@hopewellbc.com
SUMMARY:Thanksgiving
DESCRIPTION:
URL:https://hopewellbc.com/event/thanksgiving/
END:VEVENT
BEGIN:VEVENT
DTSTART;TZID=America/Monterrey:20221123T190000
DTEND;TZID=America/Monterrey:20221123T190000
DTSTAMP:20260425T062322
CREATED:20220117T193328Z
LAST-MODIFIED:20220117T193328Z
UID:27343-1669230000-1669230000@hopewellbc.com
SUMMARY:Pie\, Praise\, & Prayer Night
DESCRIPTION:
URL:https://hopewellbc.com/event/pie-praise-prayer-night/
END:VEVENT
BEGIN:VEVENT
DTSTART;VALUE=DATE:20221120
DTEND;VALUE=DATE:20221121
DTSTAMP:20260425T062322
CREATED:20220117T193310Z
LAST-MODIFIED:20220117T193310Z
UID:27342-1668902400-1668988799@hopewellbc.com
SUMMARY:Thanksgiving Offering Sunday
DESCRIPTION:
URL:https://hopewellbc.com/event/thanksgiving-offering-sunday/
END:VEVENT
BEGIN:VEVENT
DTSTART;TZID=America/Monterrey:20221113T120000
DTEND;TZID=America/Monterrey:20221113T120000
DTSTAMP:20260425T062322
CREATED:20220117T193309Z
LAST-MODIFIED:20220117T193309Z
UID:27341-1668340800-1668340800@hopewellbc.com
SUMMARY:Senior Luncheon After Morning Service
DESCRIPTION:
URL:https://hopewellbc.com/event/senior-luncheon-after-morning-service-4/
END:VEVENT
BEGIN:VEVENT
DTSTART;TZID=America/Monterrey:20221112T100000
DTEND;TZID=America/Monterrey:20221112T100000
DTSTAMP:20260425T062322
CREATED:20220117T193309Z
LAST-MODIFIED:20220117T193309Z
UID:27340-1668247200-1668247200@hopewellbc.com
SUMMARY:Bring the Light Soul Winning
DESCRIPTION:
URL:https://hopewellbc.com/event/bring-the-light-soul-winning-11/
END:VEVENT
BEGIN:VEVENT
DTSTART;VALUE=DATE:20221111
DTEND;VALUE=DATE:20221112
DTSTAMP:20260425T062322
CREATED:20220117T193309Z
LAST-MODIFIED:20220117T193309Z
UID:27339-1668124800-1668211199@hopewellbc.com
SUMMARY:Veterans Day
DESCRIPTION:
URL:https://hopewellbc.com/event/veterans-day/
END:VEVENT
BEGIN:VEVENT
DTSTART;VALUE=DATE:20221031
DTEND;VALUE=DATE:20221101
DTSTAMP:20260425T062322
CREATED:20220117T193309Z
LAST-MODIFIED:20220117T193309Z
UID:27338-1667174400-1667260799@hopewellbc.com
SUMMARY:Harvest Festival
DESCRIPTION:
URL:https://hopewellbc.com/event/harvest-festival/
END:VEVENT
BEGIN:VEVENT
DTSTART;VALUE=DATE:20221028
DTEND;VALUE=DATE:20221029
DTSTAMP:20260425T062322
CREATED:20220117T193251Z
LAST-MODIFIED:20220117T193251Z
UID:27337-1666915200-1667001599@hopewellbc.com
SUMMARY:Teen Activity - Corn Maze
DESCRIPTION:
URL:https://hopewellbc.com/event/teen-activity-corn-maze/
END:VEVENT
BEGIN:VEVENT
DTSTART;VALUE=DATE:20221023
DTEND;VALUE=DATE:20221024
DTSTAMP:20260425T062322
CREATED:20220117T193251Z
LAST-MODIFIED:20220117T193251Z
UID:27336-1666483200-1666569599@hopewellbc.com
SUMMARY:Guest Speakers Jerry and Vicky Purtell
DESCRIPTION:
URL:https://hopewellbc.com/event/guest-speakers-jerry-and-vicky-purtell/
END:VEVENT
BEGIN:VEVENT
DTSTART;VALUE=DATE:20221021
DTEND;VALUE=DATE:20221023
DTSTAMP:20260425T062322
CREATED:20220117T193251Z
LAST-MODIFIED:20220117T193251Z
UID:27335-1666310400-1666483199@hopewellbc.com
SUMMARY:Mighty Men's Conference with Clint Caviness and Jerry Purtell
DESCRIPTION:
URL:https://hopewellbc.com/event/mighty-mens-conference-with-clint-caviness-and-jerry-purtell/
END:VEVENT
BEGIN:VEVENT
DTSTART;TZID=America/Monterrey:20221009T110000
DTEND;TZID=America/Monterrey:20221009T110000
DTSTAMP:20260425T062322
CREATED:20220117T193251Z
LAST-MODIFIED:20220117T193251Z
UID:27334-1665313200-1665313200@hopewellbc.com
SUMMARY:Lord's Supper in Morning Service
DESCRIPTION:
URL:https://hopewellbc.com/event/lords-supper-in-morning-service-3/
END:VEVENT
BEGIN:VEVENT
DTSTART;TZID=America/Monterrey:20221008T100000
DTEND;TZID=America/Monterrey:20221008T100000
DTSTAMP:20260425T062322
CREATED:20220117T193251Z
LAST-MODIFIED:20220117T193251Z
UID:27333-1665223200-1665223200@hopewellbc.com
SUMMARY:Bring the Light Soul Winning
DESCRIPTION:
URL:https://hopewellbc.com/event/bring-the-light-soul-winning-10/
END:VEVENT
BEGIN:VEVENT
DTSTART;VALUE=DATE:20221002
DTEND;VALUE=DATE:20221003
DTSTAMP:20260425T062322
CREATED:20220117T193232Z
LAST-MODIFIED:20220117T193232Z
UID:27332-1664668800-1664755199@hopewellbc.com
SUMMARY:Missions Sunday
DESCRIPTION:
URL:https://hopewellbc.com/event/missions-sunday/
END:VEVENT
BEGIN:VEVENT
DTSTART;VALUE=DATE:20220925
DTEND;VALUE=DATE:20220926
DTSTAMP:20260425T062322
CREATED:20220117T193231Z
LAST-MODIFIED:20220117T193231Z
UID:27331-1664064000-1664150399@hopewellbc.com
SUMMARY:Coworker Sunday
DESCRIPTION:
URL:https://hopewellbc.com/event/coworker-sunday/
END:VEVENT
BEGIN:VEVENT
DTSTART;VALUE=DATE:20220923
DTEND;VALUE=DATE:20220925
DTSTAMP:20260425T062322
CREATED:20220117T193231Z
LAST-MODIFIED:20220117T193231Z
UID:27330-1663891200-1664063999@hopewellbc.com
SUMMARY:Married Couples' Getaway with Clint & Karen Caviness
DESCRIPTION:
URL:https://hopewellbc.com/event/married-couples-getaway-with-clint-karen-caviness/
END:VEVENT
END:VCALENDAR