BEGIN:VCALENDAR
VERSION:2.0
PRODID:-//Hopewell Baptist Church - ECPv6.15.20//NONSGML v1.0//EN
CALSCALE:GREGORIAN
METHOD:PUBLISH
X-WR-CALNAME:Hopewell Baptist Church
X-ORIGINAL-URL:https://hopewellbc.com
X-WR-CALDESC:Events for Hopewell Baptist Church
REFRESH-INTERVAL;VALUE=DURATION:PT1H
X-Robots-Tag:noindex
X-PUBLISHED-TTL:PT1H
BEGIN:VTIMEZONE
TZID:America/Monterrey
BEGIN:DAYLIGHT
TZOFFSETFROM:-0600
TZOFFSETTO:-0500
TZNAME:CDT
DTSTART:20220403T080000
END:DAYLIGHT
BEGIN:STANDARD
TZOFFSETFROM:-0500
TZOFFSETTO:-0600
TZNAME:CST
DTSTART:20221030T070000
END:STANDARD
BEGIN:DAYLIGHT
TZOFFSETFROM:-0600
TZOFFSETTO:-0500
TZNAME:CDT
DTSTART:20230402T080000
END:DAYLIGHT
BEGIN:STANDARD
TZOFFSETFROM:-0500
TZOFFSETTO:-0600
TZNAME:CST
DTSTART:20231029T070000
END:STANDARD
BEGIN:DAYLIGHT
TZOFFSETFROM:-0600
TZOFFSETTO:-0500
TZNAME:CDT
DTSTART:20240407T080000
END:DAYLIGHT
BEGIN:STANDARD
TZOFFSETFROM:-0500
TZOFFSETTO:-0600
TZNAME:CST
DTSTART:20241027T070000
END:STANDARD
BEGIN:DAYLIGHT
TZOFFSETFROM:-0600
TZOFFSETTO:-0500
TZNAME:CDT
DTSTART:20250406T080000
END:DAYLIGHT
BEGIN:STANDARD
TZOFFSETFROM:-0500
TZOFFSETTO:-0600
TZNAME:CST
DTSTART:20251026T070000
END:STANDARD
END:VTIMEZONE
BEGIN:VEVENT
DTSTART;TZID=America/Monterrey:20240406T000000
DTEND;TZID=America/Monterrey:20240406T000000
DTSTAMP:20260425T103712
CREATED:20240103T232830Z
LAST-MODIFIED:20240103T232830Z
UID:30227-1712361600-1712361600@hopewellbc.com
SUMMARY:Super Saturday of Soul Winning
DESCRIPTION:
URL:https://hopewellbc.com/event/super-saturday-of-soul-winning-4/
END:VEVENT
BEGIN:VEVENT
DTSTART;TZID=America/Monterrey:20240331T000000
DTEND;TZID=America/Monterrey:20240331T000000
DTSTAMP:20260425T103712
CREATED:20240103T232830Z
LAST-MODIFIED:20240103T232830Z
UID:30226-1711843200-1711843200@hopewellbc.com
SUMMARY:Easter Sunday
DESCRIPTION:
URL:https://hopewellbc.com/event/easter-sunday-2/
END:VEVENT
BEGIN:VEVENT
DTSTART;TZID=America/Monterrey:20240322T000000
DTEND;TZID=America/Monterrey:20240322T000000
DTSTAMP:20260425T103712
CREATED:20240103T232830Z
LAST-MODIFIED:20240103T232830Z
UID:30225-1711065600-1711065600@hopewellbc.com
SUMMARY:Epic Center Teen Activity
DESCRIPTION:
URL:https://hopewellbc.com/event/epic-center-teen-activity/
END:VEVENT
BEGIN:VEVENT
DTSTART;TZID=America/Monterrey:20240317T000000
DTEND;TZID=America/Monterrey:20240317T000000
DTSTAMP:20260425T103712
CREATED:20240103T232830Z
LAST-MODIFIED:20240103T232830Z
UID:30224-1710633600-1710633600@hopewellbc.com
SUMMARY:GAP Meeting (PM)
DESCRIPTION:
URL:https://hopewellbc.com/event/gap-meeting-pm/
END:VEVENT
BEGIN:VEVENT
DTSTART;TZID=America/Monterrey:20240311T000000
DTEND;TZID=America/Monterrey:20240311T000000
DTSTAMP:20260425T103712
CREATED:20240103T232827Z
LAST-MODIFIED:20240103T232827Z
UID:30223-1710115200-1710115200@hopewellbc.com
SUMMARY:Adult Restaurant Night (Don Perico's)
DESCRIPTION:
URL:https://hopewellbc.com/event/adult-restaurant-night-don-pericos/
END:VEVENT
BEGIN:VEVENT
DTSTART;TZID=America/Monterrey:20240310T000000
DTEND;TZID=America/Monterrey:20240310T000000
DTSTAMP:20260425T103712
CREATED:20240103T232827Z
LAST-MODIFIED:20240103T232827Z
UID:30222-1710028800-1710028800@hopewellbc.com
SUMMARY:Time Change Sunday
DESCRIPTION:
URL:https://hopewellbc.com/event/time-change-sunday/
END:VEVENT
BEGIN:VEVENT
DTSTART;TZID=America/Monterrey:20240303T000000
DTEND;TZID=America/Monterrey:20240303T000000
DTSTAMP:20260425T103712
CREATED:20240103T232827Z
LAST-MODIFIED:20240103T232827Z
UID:30221-1709424000-1709424000@hopewellbc.com
SUMMARY:Spring Senior Luncheon
DESCRIPTION:
URL:https://hopewellbc.com/event/spring-senior-luncheon/
END:VEVENT
BEGIN:VEVENT
DTSTART;TZID=America/Monterrey:20240302T000000
DTEND;TZID=America/Monterrey:20240302T000000
DTSTAMP:20260425T103712
CREATED:20240103T232827Z
LAST-MODIFIED:20240103T232827Z
UID:30220-1709337600-1709337600@hopewellbc.com
SUMMARY:Super Saturday of Soul Winning
DESCRIPTION:
URL:https://hopewellbc.com/event/super-saturday-of-soul-winning-3/
END:VEVENT
BEGIN:VEVENT
DTSTART;TZID=America/Monterrey:20240225T000000
DTEND;TZID=America/Monterrey:20240225T000000
DTSTAMP:20260425T103712
CREATED:20240103T232826Z
LAST-MODIFIED:20240103T232826Z
UID:30219-1708819200-1708819200@hopewellbc.com
SUMMARY:Ladies' and Teen Girls' Sunday School Rally
DESCRIPTION:
URL:https://hopewellbc.com/event/ladies-and-teen-girls-sunday-school-rally/
END:VEVENT
BEGIN:VEVENT
DTSTART;TZID=America/Monterrey:20240222T000000
DTEND;TZID=America/Monterrey:20240224T000000
DTSTAMP:20260425T103712
CREATED:20240103T232808Z
LAST-MODIFIED:20240103T232811Z
UID:30213-1708560000-1708732800@hopewellbc.com
SUMMARY:31st Annual California Baptist Ladies' Conference
DESCRIPTION:
URL:https://hopewellbc.com/event/31st-annual-california-baptist-ladies-conference-2/
END:VEVENT
BEGIN:VEVENT
DTSTART;TZID=America/Monterrey:20240219T000000
DTEND;TZID=America/Monterrey:20240219T000000
DTSTAMP:20260425T103712
CREATED:20240103T232808Z
LAST-MODIFIED:20240103T232811Z
UID:30212-1708300800-1708300800@hopewellbc.com
SUMMARY:Ladies' Conference Work Day
DESCRIPTION:
URL:https://hopewellbc.com/event/ladies-conference-work-day-3/
END:VEVENT
BEGIN:VEVENT
DTSTART;TZID=America/Monterrey:20240211T000000
DTEND;TZID=America/Monterrey:20240211T000000
DTSTAMP:20260425T103712
CREATED:20240103T232808Z
LAST-MODIFIED:20240103T232811Z
UID:30211-1707609600-1707609600@hopewellbc.com
SUMMARY:Super Church Sunday (7:30 PM Evening Service)
DESCRIPTION:
URL:https://hopewellbc.com/event/super-church-sunday-730-pm-evening-service/
END:VEVENT
BEGIN:VEVENT
DTSTART;TZID=America/Monterrey:20240204T000000
DTEND;TZID=America/Monterrey:20240204T000000
DTSTAMP:20260425T103712
CREATED:20240103T232808Z
LAST-MODIFIED:20240103T232811Z
UID:30210-1707004800-1707004800@hopewellbc.com
SUMMARY:Lord's Supper (PM)
DESCRIPTION:
URL:https://hopewellbc.com/event/lords-supper-pm-3/
END:VEVENT
BEGIN:VEVENT
DTSTART;TZID=America/Monterrey:20240203T000000
DTEND;TZID=America/Monterrey:20240203T000000
DTSTAMP:20260425T103712
CREATED:20240103T232807Z
LAST-MODIFIED:20240103T232811Z
UID:30209-1706918400-1706918400@hopewellbc.com
SUMMARY:Super Saturday of Soul Winning
DESCRIPTION:
URL:https://hopewellbc.com/event/super-saturday-of-soul-winning-2/
END:VEVENT
BEGIN:VEVENT
DTSTART;TZID=America/Monterrey:20240128T000000
DTEND;TZID=America/Monterrey:20240128T000000
DTSTAMP:20260425T103712
CREATED:20240103T232804Z
LAST-MODIFIED:20240103T232804Z
UID:30208-1706400000-1706400000@hopewellbc.com
SUMMARY:Bowling Night (after evening church)
DESCRIPTION:
URL:https://hopewellbc.com/event/bowling-night-after-evening-church/
END:VEVENT
BEGIN:VEVENT
DTSTART;TZID=America/Monterrey:20240121T000000
DTEND;TZID=America/Monterrey:20240121T000000
DTSTAMP:20260425T103712
CREATED:20240103T232804Z
LAST-MODIFIED:20240103T232804Z
UID:30207-1705795200-1705795200@hopewellbc.com
SUMMARY:Parent/Baby Dedication
DESCRIPTION:
URL:https://hopewellbc.com/event/parent-baby-dedication/
END:VEVENT
BEGIN:VEVENT
DTSTART;TZID=America/Monterrey:20240108T000000
DTEND;TZID=America/Monterrey:20240112T000000
DTSTAMP:20260425T103712
CREATED:20240103T232803Z
LAST-MODIFIED:20240103T232803Z
UID:30204-1704672000-1705017600@hopewellbc.com
SUMMARY:Baja\, Mexico Cruise
DESCRIPTION:
URL:https://hopewellbc.com/event/baja-mexico-cruise/
END:VEVENT
BEGIN:VEVENT
DTSTART;TZID=America/Monterrey:20240107T000000
DTEND;TZID=America/Monterrey:20240107T000000
DTSTAMP:20260425T103712
CREATED:20240103T232803Z
LAST-MODIFIED:20240103T232803Z
UID:30205-1704585600-1704585600@hopewellbc.com
SUMMARY:Calendar Sunday
DESCRIPTION:
URL:https://hopewellbc.com/event/calendar-sunday/
END:VEVENT
BEGIN:VEVENT
DTSTART;TZID=America/Monterrey:20240106T000000
DTEND;TZID=America/Monterrey:20240106T000000
DTSTAMP:20260425T103712
CREATED:20240103T232804Z
LAST-MODIFIED:20240103T232804Z
UID:30206-1704499200-1704499200@hopewellbc.com
SUMMARY:Super Saturday of Soul Winning
DESCRIPTION:
URL:https://hopewellbc.com/event/super-saturday-of-soul-winning/
END:VEVENT
BEGIN:VEVENT
DTSTART;TZID=America/Monterrey:20231231T000000
DTEND;TZID=America/Monterrey:20231231T000000
DTSTAMP:20260425T103712
CREATED:20230615T220717Z
LAST-MODIFIED:20230615T220717Z
UID:29475-1703980800-1703980800@hopewellbc.com
SUMMARY:10 AM Sunday School\, 11 AM Morning Service\, 8 PM NYE Service
DESCRIPTION:
URL:https://hopewellbc.com/event/10-am-sunday-school-11-am-morning-service-8-pm-nye-service/
END:VEVENT
BEGIN:VEVENT
DTSTART;TZID=America/Monterrey:20231225T000000
DTEND;TZID=America/Monterrey:20231225T000000
DTSTAMP:20260425T103712
CREATED:20230615T220717Z
LAST-MODIFIED:20230615T220717Z
UID:29474-1703462400-1703462400@hopewellbc.com
SUMMARY:Christmas
DESCRIPTION:
URL:https://hopewellbc.com/event/christmas-2/
END:VEVENT
BEGIN:VEVENT
DTSTART;TZID=America/Monterrey:20231224T000000
DTEND;TZID=America/Monterrey:20231224T000000
DTSTAMP:20260425T103712
CREATED:20230615T220717Z
LAST-MODIFIED:20230615T220717Z
UID:29473-1703376000-1703376000@hopewellbc.com
SUMMARY:11 AM Morning Service\, 5 PM Evening Service (No Sunday School)
DESCRIPTION:
URL:https://hopewellbc.com/event/11-am-morning-service-5-pm-evening-service-no-sunday-school/
END:VEVENT
BEGIN:VEVENT
DTSTART;TZID=America/Monterrey:20231218T000000
DTEND;TZID=America/Monterrey:20231218T000000
DTSTAMP:20260425T103712
CREATED:20230615T220717Z
LAST-MODIFIED:20230615T220717Z
UID:29472-1702857600-1702857600@hopewellbc.com
SUMMARY:HBCA Christmas Break Begins
DESCRIPTION:
URL:https://hopewellbc.com/event/hbca-christmas-break-begins/
END:VEVENT
BEGIN:VEVENT
DTSTART;TZID=America/Monterrey:20231217T000000
DTEND;TZID=America/Monterrey:20231217T000000
DTSTAMP:20260425T103712
CREATED:20230615T220702Z
LAST-MODIFIED:20230615T220702Z
UID:29471-1702771200-1702771200@hopewellbc.com
SUMMARY:Children's Christmas Program
DESCRIPTION:
URL:https://hopewellbc.com/event/childrens-christmas-program-3/
END:VEVENT
BEGIN:VEVENT
DTSTART;TZID=America/Monterrey:20231215T000000
DTEND;TZID=America/Monterrey:20231215T000000
DTSTAMP:20260425T103712
CREATED:20230615T220702Z
LAST-MODIFIED:20230615T220702Z
UID:29470-1702598400-1702598400@hopewellbc.com
SUMMARY:Teen Christmas Activity
DESCRIPTION:
URL:https://hopewellbc.com/event/teen-christmas-activity-2/
END:VEVENT
BEGIN:VEVENT
DTSTART;TZID=America/Monterrey:20231205T000000
DTEND;TZID=America/Monterrey:20231205T000000
DTSTAMP:20260425T103712
CREATED:20230615T220702Z
LAST-MODIFIED:20230615T220702Z
UID:29469-1701734400-1701734400@hopewellbc.com
SUMMARY:Ladies' Christmas Activity
DESCRIPTION:
URL:https://hopewellbc.com/event/ladies-christmas-activity-2/
END:VEVENT
BEGIN:VEVENT
DTSTART;TZID=America/Monterrey:20231203T000000
DTEND;TZID=America/Monterrey:20231203T000000
DTSTAMP:20260425T103712
CREATED:20230615T220702Z
LAST-MODIFIED:20230615T220702Z
UID:29468-1701561600-1701561600@hopewellbc.com
SUMMARY:Lord's Supper (PM)
DESCRIPTION:
URL:https://hopewellbc.com/event/lords-supper-pm-2/
END:VEVENT
BEGIN:VEVENT
DTSTART;TZID=America/Monterrey:20231129T000000
DTEND;TZID=America/Monterrey:20231129T000000
DTSTAMP:20260425T103712
CREATED:20230615T220702Z
LAST-MODIFIED:20230615T220702Z
UID:29467-1701216000-1701216000@hopewellbc.com
SUMMARY:Mrs. Ray's Birthday
DESCRIPTION:
URL:https://hopewellbc.com/event/mrs-rays-birthday-2/
END:VEVENT
BEGIN:VEVENT
DTSTART;TZID=America/Monterrey:20231128T000000
DTEND;TZID=America/Monterrey:20231128T000000
DTSTAMP:20260425T103712
CREATED:20230615T220659Z
LAST-MODIFIED:20230615T220659Z
UID:29466-1701129600-1701129600@hopewellbc.com
SUMMARY:Church Christmas Decorating Night
DESCRIPTION:
URL:https://hopewellbc.com/event/church-christmas-decorating-night/
END:VEVENT
BEGIN:VEVENT
DTSTART;TZID=America/Monterrey:20231123T000000
DTEND;TZID=America/Monterrey:20231123T000000
DTSTAMP:20260425T103712
CREATED:20230615T220659Z
LAST-MODIFIED:20230615T220659Z
UID:29465-1700697600-1700697600@hopewellbc.com
SUMMARY:Thanksgiving
DESCRIPTION:
URL:https://hopewellbc.com/event/thanksgiving-2/
END:VEVENT
END:VCALENDAR