BEGIN:VCALENDAR
VERSION:2.0
PRODID:-//Hopewell Baptist Church - ECPv6.15.20//NONSGML v1.0//EN
CALSCALE:GREGORIAN
METHOD:PUBLISH
X-WR-CALNAME:Hopewell Baptist Church
X-ORIGINAL-URL:https://hopewellbc.com
X-WR-CALDESC:Events for Hopewell Baptist Church
REFRESH-INTERVAL;VALUE=DURATION:PT1H
X-Robots-Tag:noindex
X-PUBLISHED-TTL:PT1H
BEGIN:VTIMEZONE
TZID:America/Monterrey
BEGIN:DAYLIGHT
TZOFFSETFROM:-0600
TZOFFSETTO:-0500
TZNAME:CDT
DTSTART:20230402T080000
END:DAYLIGHT
BEGIN:STANDARD
TZOFFSETFROM:-0500
TZOFFSETTO:-0600
TZNAME:CST
DTSTART:20231029T070000
END:STANDARD
BEGIN:DAYLIGHT
TZOFFSETFROM:-0600
TZOFFSETTO:-0500
TZNAME:CDT
DTSTART:20240407T080000
END:DAYLIGHT
BEGIN:STANDARD
TZOFFSETFROM:-0500
TZOFFSETTO:-0600
TZNAME:CST
DTSTART:20241027T070000
END:STANDARD
BEGIN:DAYLIGHT
TZOFFSETFROM:-0600
TZOFFSETTO:-0500
TZNAME:CDT
DTSTART:20250406T080000
END:DAYLIGHT
BEGIN:STANDARD
TZOFFSETFROM:-0500
TZOFFSETTO:-0600
TZNAME:CST
DTSTART:20251026T070000
END:STANDARD
END:VTIMEZONE
BEGIN:VEVENT
DTSTART;TZID=America/Monterrey:20241018T000000
DTEND;TZID=America/Monterrey:20241019T000000
DTSTAMP:20260424T073603
CREATED:20240103T233022Z
LAST-MODIFIED:20240103T233022Z
UID:30284-1729209600-1729296000@hopewellbc.com
SUMMARY:11th Annual Mighty Men's Meeting with Dan Kirshner and Doug Sisson
DESCRIPTION:
URL:https://hopewellbc.com/event/11th-annual-mighty-mens-meeting-with-dan-kirshner-and-doug-sisson/
END:VEVENT
BEGIN:VEVENT
DTSTART;TZID=America/Monterrey:20241013T000000
DTEND;TZID=America/Monterrey:20241013T000000
DTSTAMP:20260424T073603
CREATED:20240103T233019Z
LAST-MODIFIED:20240103T233019Z
UID:30282-1728777600-1728777600@hopewellbc.com
SUMMARY:Pumpkin Sunday
DESCRIPTION:
URL:https://hopewellbc.com/event/pumpkin-sunday/
END:VEVENT
BEGIN:VEVENT
DTSTART;TZID=America/Monterrey:20241006T000000
DTEND;TZID=America/Monterrey:20241006T000000
DTSTAMP:20260424T073603
CREATED:20240103T233019Z
LAST-MODIFIED:20240103T233019Z
UID:30281-1728172800-1728172800@hopewellbc.com
SUMMARY:Fall Campaign Begins (Goldfish Sunday)
DESCRIPTION:
URL:https://hopewellbc.com/event/fall-campaign-begins-goldfish-sunday/
END:VEVENT
BEGIN:VEVENT
DTSTART;TZID=America/Monterrey:20241006T000000
DTEND;TZID=America/Monterrey:20241006T000000
DTSTAMP:20260424T073603
CREATED:20240103T233019Z
LAST-MODIFIED:20240103T233019Z
UID:30283-1728172800-1728172800@hopewellbc.com
SUMMARY:Lord's Supper (PM)
DESCRIPTION:
URL:https://hopewellbc.com/event/lords-supper-pm-5/
END:VEVENT
BEGIN:VEVENT
DTSTART;TZID=America/Monterrey:20241005T000000
DTEND;TZID=America/Monterrey:20241005T000000
DTSTAMP:20260424T073603
CREATED:20240103T233019Z
LAST-MODIFIED:20240103T233019Z
UID:30280-1728086400-1728086400@hopewellbc.com
SUMMARY:Super Saturday of Soul Winning
DESCRIPTION:
URL:https://hopewellbc.com/event/super-saturday-of-soul-winning-10/
END:VEVENT
BEGIN:VEVENT
DTSTART;TZID=America/Monterrey:20240929T000000
DTEND;TZID=America/Monterrey:20240929T000000
DTSTAMP:20260424T073603
CREATED:20240103T233019Z
LAST-MODIFIED:20240103T233019Z
UID:30279-1727568000-1727568000@hopewellbc.com
SUMMARY:Pastor and Mrs. Dan Carr at Hopewell
DESCRIPTION:
URL:https://hopewellbc.com/event/pastor-and-mrs-dan-carr-at-hopewell/
END:VEVENT
BEGIN:VEVENT
DTSTART;TZID=America/Monterrey:20240927T000000
DTEND;TZID=America/Monterrey:20240928T000000
DTSTAMP:20260424T073603
CREATED:20240103T233004Z
LAST-MODIFIED:20240103T233004Z
UID:30278-1727395200-1727481600@hopewellbc.com
SUMMARY:Married Couple's Getaway with Pastor and Mrs. Dan Carr
DESCRIPTION:
URL:https://hopewellbc.com/event/married-couples-getaway-with-pastor-and-mrs-dan-carr/
END:VEVENT
BEGIN:VEVENT
DTSTART;TZID=America/Monterrey:20240922T000000
DTEND;TZID=America/Monterrey:20240922T000000
DTSTAMP:20260424T073603
CREATED:20240103T233004Z
LAST-MODIFIED:20240103T233004Z
UID:30277-1726963200-1726963200@hopewellbc.com
SUMMARY:Western Sunday
DESCRIPTION:
URL:https://hopewellbc.com/event/western-sunday-2/
END:VEVENT
BEGIN:VEVENT
DTSTART;TZID=America/Monterrey:20240915T000000
DTEND;TZID=America/Monterrey:20240915T000000
DTSTAMP:20260424T073603
CREATED:20240103T233004Z
LAST-MODIFIED:20240103T233004Z
UID:30276-1726358400-1726358400@hopewellbc.com
SUMMARY:GAP Meeting (PM)
DESCRIPTION:
URL:https://hopewellbc.com/event/gap-meeting-pm-3/
END:VEVENT
BEGIN:VEVENT
DTSTART;TZID=America/Monterrey:20240908T000000
DTEND;TZID=America/Monterrey:20240908T000000
DTSTAMP:20260424T073603
CREATED:20240103T233003Z
LAST-MODIFIED:20240103T233003Z
UID:30275-1725753600-1725753600@hopewellbc.com
SUMMARY:Missions Sunday with Pastor Mike Johnson
DESCRIPTION:
URL:https://hopewellbc.com/event/missions-sunday-with-pastor-mike-johnson/
END:VEVENT
BEGIN:VEVENT
DTSTART;TZID=America/Monterrey:20240907T000000
DTEND;TZID=America/Monterrey:20240907T000000
DTSTAMP:20260424T073603
CREATED:20240103T233003Z
LAST-MODIFIED:20240103T233003Z
UID:30274-1725667200-1725667200@hopewellbc.com
SUMMARY:Super Saturday of Soul Winning
DESCRIPTION:
URL:https://hopewellbc.com/event/super-saturday-of-soul-winning-9/
END:VEVENT
BEGIN:VEVENT
DTSTART;TZID=America/Monterrey:20240901T000000
DTEND;TZID=America/Monterrey:20240901T000000
DTSTAMP:20260424T073603
CREATED:20240103T233000Z
LAST-MODIFIED:20240103T233000Z
UID:30273-1725148800-1725148800@hopewellbc.com
SUMMARY:Southern Home Cookin' Fellowship (PM)
DESCRIPTION:
URL:https://hopewellbc.com/event/southern-home-cookin-fellowship-pm/
END:VEVENT
BEGIN:VEVENT
DTSTART;TZID=America/Monterrey:20240825T000000
DTEND;TZID=America/Monterrey:20240825T000000
DTSTAMP:20260424T073603
CREATED:20240103T233000Z
LAST-MODIFIED:20240103T233000Z
UID:30272-1724544000-1724544000@hopewellbc.com
SUMMARY:Corn Dogs Fellowship (PM)
DESCRIPTION:
URL:https://hopewellbc.com/event/corn-dogs-fellowship-pm/
END:VEVENT
BEGIN:VEVENT
DTSTART;TZID=America/Monterrey:20240824T000000
DTEND;TZID=America/Monterrey:20240824T000000
DTSTAMP:20260424T073603
CREATED:20240103T233000Z
LAST-MODIFIED:20240103T233000Z
UID:30271-1724457600-1724457600@hopewellbc.com
SUMMARY:Backyard Bible Clubs
DESCRIPTION:
URL:https://hopewellbc.com/event/backyard-bible-clubs-4/
END:VEVENT
BEGIN:VEVENT
DTSTART;TZID=America/Monterrey:20240818T000000
DTEND;TZID=America/Monterrey:20240818T000000
DTSTAMP:20260424T073603
CREATED:20240103T233000Z
LAST-MODIFIED:20240103T233000Z
UID:30270-1723939200-1723939200@hopewellbc.com
SUMMARY:Waffle Bar Fellowship (PM)
DESCRIPTION:
URL:https://hopewellbc.com/event/waffle-bar-fellowship-pm/
END:VEVENT
BEGIN:VEVENT
DTSTART;TZID=America/Monterrey:20240811T000000
DTEND;TZID=America/Monterrey:20240811T000000
DTSTAMP:20260424T073603
CREATED:20240103T233000Z
LAST-MODIFIED:20240103T233000Z
UID:30269-1723334400-1723334400@hopewellbc.com
SUMMARY:Loaded Nachos Fellowship (PM)
DESCRIPTION:
URL:https://hopewellbc.com/event/loaded-nachos-fellowship-pm/
END:VEVENT
BEGIN:VEVENT
DTSTART;TZID=America/Monterrey:20240810T000000
DTEND;TZID=America/Monterrey:20240810T000000
DTSTAMP:20260424T073603
CREATED:20240103T232945Z
LAST-MODIFIED:20240103T232945Z
UID:30268-1723248000-1723248000@hopewellbc.com
SUMMARY:Super Saturday of Soul Winning
DESCRIPTION:
URL:https://hopewellbc.com/event/super-saturday-of-soul-winning-8/
END:VEVENT
BEGIN:VEVENT
DTSTART;TZID=America/Monterrey:20240804T000000
DTEND;TZID=America/Monterrey:20240804T000000
DTSTAMP:20260424T073603
CREATED:20240103T232945Z
LAST-MODIFIED:20240103T232945Z
UID:30266-1722729600-1722729600@hopewellbc.com
SUMMARY:Lord's Supper (AM)
DESCRIPTION:
URL:https://hopewellbc.com/event/lords-supper-am/
END:VEVENT
BEGIN:VEVENT
DTSTART;TZID=America/Monterrey:20240804T000000
DTEND;TZID=America/Monterrey:20240804T000000
DTSTAMP:20260424T073603
CREATED:20240103T232945Z
LAST-MODIFIED:20240103T232945Z
UID:30267-1722729600-1722729600@hopewellbc.com
SUMMARY:Popcorn & Punch Singspiration (PM)
DESCRIPTION:
URL:https://hopewellbc.com/event/popcorn-punch-singspiration-pm/
END:VEVENT
BEGIN:VEVENT
DTSTART;TZID=America/Monterrey:20240804T000000
DTEND;TZID=America/Monterrey:20240804T000000
DTSTAMP:20260424T073603
CREATED:20240103T232944Z
LAST-MODIFIED:20240103T232944Z
UID:30265-1722729600-1722729600@hopewellbc.com
SUMMARY:Anniversary Sunday
DESCRIPTION:
URL:https://hopewellbc.com/event/anniversary-sunday-2/
END:VEVENT
BEGIN:VEVENT
DTSTART;TZID=America/Monterrey:20240729T000000
DTEND;TZID=America/Monterrey:20240802T000000
DTSTAMP:20260424T073603
CREATED:20240103T232944Z
LAST-MODIFIED:20240103T232944Z
UID:30264-1722211200-1722556800@hopewellbc.com
SUMMARY:Mt. Zion Baptist Camp (Juniors and Teens)
DESCRIPTION:
URL:https://hopewellbc.com/event/mt-zion-baptist-camp-juniors-and-teens/
END:VEVENT
BEGIN:VEVENT
DTSTART;TZID=America/Monterrey:20240728T000000
DTEND;TZID=America/Monterrey:20240728T000000
DTSTAMP:20260424T073603
CREATED:20240103T232942Z
LAST-MODIFIED:20240103T232942Z
UID:30263-1722124800-1722124800@hopewellbc.com
SUMMARY:Ice Cream Social (PM)
DESCRIPTION:
URL:https://hopewellbc.com/event/ice-cream-social-pm/
END:VEVENT
BEGIN:VEVENT
DTSTART;TZID=America/Monterrey:20240721T000000
DTEND;TZID=America/Monterrey:20240721T000000
DTSTAMP:20260424T073603
CREATED:20240103T232942Z
LAST-MODIFIED:20240103T232942Z
UID:30262-1721520000-1721520000@hopewellbc.com
SUMMARY:Baked Potato Bar Fellowship (PM)
DESCRIPTION:
URL:https://hopewellbc.com/event/baked-potato-bar-fellowship-pm/
END:VEVENT
BEGIN:VEVENT
DTSTART;TZID=America/Monterrey:20240720T000000
DTEND;TZID=America/Monterrey:20240720T000000
DTSTAMP:20260424T073603
CREATED:20240103T232941Z
LAST-MODIFIED:20240103T232941Z
UID:30261-1721433600-1721433600@hopewellbc.com
SUMMARY:Backyard Bible Clubs
DESCRIPTION:
URL:https://hopewellbc.com/event/backyard-bible-clubs-3/
END:VEVENT
BEGIN:VEVENT
DTSTART;TZID=America/Monterrey:20240719T000000
DTEND;TZID=America/Monterrey:20240719T000000
DTSTAMP:20260424T073603
CREATED:20240103T232941Z
LAST-MODIFIED:20240103T232941Z
UID:30259-1721347200-1721347200@hopewellbc.com
SUMMARY:Pastor's Birthday
DESCRIPTION:
URL:https://hopewellbc.com/event/pastors-birthday-2/
END:VEVENT
BEGIN:VEVENT
DTSTART;TZID=America/Monterrey:20240716T000000
DTEND;TZID=America/Monterrey:20240716T000000
DTSTAMP:20260424T073603
CREATED:20240103T232926Z
LAST-MODIFIED:20240103T232926Z
UID:30258-1721088000-1721088000@hopewellbc.com
SUMMARY:Teen Activity
DESCRIPTION:
URL:https://hopewellbc.com/event/teen-activity-3/
END:VEVENT
BEGIN:VEVENT
DTSTART;TZID=America/Monterrey:20240713T000000
DTEND;TZID=America/Monterrey:20240713T000000
DTSTAMP:20260424T073603
CREATED:20240103T232941Z
LAST-MODIFIED:20240103T232941Z
UID:30260-1720828800-1720828800@hopewellbc.com
SUMMARY:Super Saturday of Soul Winning
DESCRIPTION:
URL:https://hopewellbc.com/event/super-saturday-of-soul-winning-7/
END:VEVENT
BEGIN:VEVENT
DTSTART;TZID=America/Monterrey:20240707T000000
DTEND;TZID=America/Monterrey:20240707T000000
DTSTAMP:20260424T073603
CREATED:20240103T232926Z
LAST-MODIFIED:20240103T232926Z
UID:30257-1720310400-1720310400@hopewellbc.com
SUMMARY:Hawaiian Sunday (Hawaiian Fried Rice PM Fellowship)
DESCRIPTION:
URL:https://hopewellbc.com/event/hawaiian-sunday-hawaiian-fried-rice-pm-fellowship/
END:VEVENT
BEGIN:VEVENT
DTSTART;TZID=America/Monterrey:20240707T000000
DTEND;TZID=America/Monterrey:20240707T000000
DTSTAMP:20260424T073603
CREATED:20240103T232926Z
LAST-MODIFIED:20240103T232926Z
UID:30255-1720310400-1720310400@hopewellbc.com
SUMMARY:Summer Seniors' Luncheon
DESCRIPTION:
URL:https://hopewellbc.com/event/summer-seniors-luncheon/
END:VEVENT
BEGIN:VEVENT
DTSTART;TZID=America/Monterrey:20240707T000000
DTEND;TZID=America/Monterrey:20240707T000000
DTSTAMP:20260424T073603
CREATED:20240103T232926Z
LAST-MODIFIED:20240103T232926Z
UID:30256-1720310400-1720310400@hopewellbc.com
SUMMARY:Pulled Pork Sandwiches (PM)
DESCRIPTION:
URL:https://hopewellbc.com/event/pulled-pork-sandwiches-pm/
END:VEVENT
END:VCALENDAR