BEGIN:VCALENDAR
VERSION:2.0
PRODID:-//Hopewell Baptist Church - ECPv6.15.20//NONSGML v1.0//EN
CALSCALE:GREGORIAN
METHOD:PUBLISH
X-WR-CALNAME:Hopewell Baptist Church
X-ORIGINAL-URL:https://hopewellbc.com
X-WR-CALDESC:Events for Hopewell Baptist Church
REFRESH-INTERVAL;VALUE=DURATION:PT1H
X-Robots-Tag:noindex
X-PUBLISHED-TTL:PT1H
BEGIN:VTIMEZONE
TZID:America/Monterrey
BEGIN:DAYLIGHT
TZOFFSETFROM:-0600
TZOFFSETTO:-0500
TZNAME:CDT
DTSTART:20230402T080000
END:DAYLIGHT
BEGIN:STANDARD
TZOFFSETFROM:-0500
TZOFFSETTO:-0600
TZNAME:CST
DTSTART:20231029T070000
END:STANDARD
BEGIN:DAYLIGHT
TZOFFSETFROM:-0600
TZOFFSETTO:-0500
TZNAME:CDT
DTSTART:20240407T080000
END:DAYLIGHT
BEGIN:STANDARD
TZOFFSETFROM:-0500
TZOFFSETTO:-0600
TZNAME:CST
DTSTART:20241027T070000
END:STANDARD
BEGIN:DAYLIGHT
TZOFFSETFROM:-0600
TZOFFSETTO:-0500
TZNAME:CDT
DTSTART:20250406T080000
END:DAYLIGHT
BEGIN:STANDARD
TZOFFSETFROM:-0500
TZOFFSETTO:-0600
TZNAME:CST
DTSTART:20251026T070000
END:STANDARD
BEGIN:DAYLIGHT
TZOFFSETFROM:-0600
TZOFFSETTO:-0500
TZNAME:CDT
DTSTART:20260405T080000
END:DAYLIGHT
BEGIN:STANDARD
TZOFFSETFROM:-0500
TZOFFSETTO:-0600
TZNAME:CST
DTSTART:20261025T070000
END:STANDARD
END:VTIMEZONE
BEGIN:VEVENT
DTSTART;VALUE=DATE:20250209
DTEND;VALUE=DATE:20250210
DTSTAMP:20260424T071531
CREATED:20250129T213135Z
LAST-MODIFIED:20250129T213827Z
UID:43786-1739059200-1739145599@hopewellbc.com
SUMMARY:Jersey Sunday (7:30 PM Evening Service)
DESCRIPTION:
URL:https://hopewellbc.com/event/jersey-sunday-730-pm-evening-service-2/
END:VEVENT
BEGIN:VEVENT
DTSTART;VALUE=DATE:20250208
DTEND;VALUE=DATE:20250209
DTSTAMP:20260424T071531
CREATED:20250129T213134Z
LAST-MODIFIED:20250129T213827Z
UID:43785-1738972800-1739059199@hopewellbc.com
SUMMARY:Nursery Workers' Training Breakfast
DESCRIPTION:
URL:https://hopewellbc.com/event/nursery-workers-training-breakfast-2/
END:VEVENT
BEGIN:VEVENT
DTSTART;VALUE=DATE:20250202
DTEND;VALUE=DATE:20250203
DTSTAMP:20260424T071531
CREATED:20250129T213118Z
LAST-MODIFIED:20250129T213810Z
UID:43779-1738454400-1738540799@hopewellbc.com
SUMMARY:Ladies' Conference Planning Meeting (5 PM)
DESCRIPTION:
URL:https://hopewellbc.com/event/ladies-conference-planning-meeting-5-pm-2/
END:VEVENT
BEGIN:VEVENT
DTSTART;VALUE=DATE:20250126
DTEND;VALUE=DATE:20250127
DTSTAMP:20260424T071531
CREATED:20250129T213117Z
LAST-MODIFIED:20250129T213810Z
UID:43778-1737849600-1737935999@hopewellbc.com
SUMMARY:Annual Church Business Meeting (PM)
DESCRIPTION:
URL:https://hopewellbc.com/event/annual-church-business-meeting-pm-2/
END:VEVENT
BEGIN:VEVENT
DTSTART;VALUE=DATE:20250120
DTEND;VALUE=DATE:20250121
DTSTAMP:20260424T071531
CREATED:20250129T213117Z
LAST-MODIFIED:20250129T213810Z
UID:43776-1737331200-1737417599@hopewellbc.com
SUMMARY:Inauguration Day
DESCRIPTION:
URL:https://hopewellbc.com/event/inauguration-day-2/
END:VEVENT
BEGIN:VEVENT
DTSTART;VALUE=DATE:20250120
DTEND;VALUE=DATE:20250121
DTSTAMP:20260424T071531
CREATED:20250129T213117Z
LAST-MODIFIED:20250129T213810Z
UID:43777-1737331200-1737417599@hopewellbc.com
SUMMARY:Martin Luther King Jr. Day
DESCRIPTION:
URL:https://hopewellbc.com/event/martin-luther-king-jr-day-4/
END:VEVENT
BEGIN:VEVENT
DTSTART;VALUE=DATE:20250113
DTEND;VALUE=DATE:20250114
DTSTAMP:20260424T071531
CREATED:20250129T213117Z
LAST-MODIFIED:20250129T213810Z
UID:43775-1736726400-1736812799@hopewellbc.com
SUMMARY:Ladies' Auction Night
DESCRIPTION:
URL:https://hopewellbc.com/event/ladies-auction-night-2/
END:VEVENT
BEGIN:VEVENT
DTSTART;VALUE=DATE:20250112
DTEND;VALUE=DATE:20250113
DTSTAMP:20260424T071531
CREATED:20250129T213114Z
LAST-MODIFIED:20250129T213807Z
UID:43774-1736640000-1736726399@hopewellbc.com
SUMMARY:I Love the Bible Sunday
DESCRIPTION:
URL:https://hopewellbc.com/event/i-love-the-bible-sunday-2/
END:VEVENT
BEGIN:VEVENT
DTSTART;VALUE=DATE:20250111
DTEND;VALUE=DATE:20250112
DTSTAMP:20260424T071531
CREATED:20250129T213114Z
LAST-MODIFIED:20250129T213807Z
UID:43773-1736553600-1736639999@hopewellbc.com
SUMMARY:Usher's Breakfast Training
DESCRIPTION:
URL:https://hopewellbc.com/event/ushers-breakfast-training-2/
END:VEVENT
BEGIN:VEVENT
DTSTART;VALUE=DATE:20250108
DTEND;VALUE=DATE:20250109
DTSTAMP:20260424T071531
CREATED:20250129T213114Z
LAST-MODIFIED:20250129T213807Z
UID:43772-1736294400-1736380799@hopewellbc.com
SUMMARY:Guest Speaker Jonathan Ray
DESCRIPTION:
URL:https://hopewellbc.com/event/guest-speaker-jonathan-ray-2/
END:VEVENT
BEGIN:VEVENT
DTSTART;VALUE=DATE:20250106
DTEND;VALUE=DATE:20250108
DTSTAMP:20260424T071531
CREATED:20250129T213114Z
LAST-MODIFIED:20250129T213806Z
UID:43771-1736121600-1736294399@hopewellbc.com
SUMMARY:Preacher's Delight in Tacoma\, WA
DESCRIPTION:
URL:https://hopewellbc.com/event/preachers-delight-in-tacoma-wa-2/
END:VEVENT
BEGIN:VEVENT
DTSTART;VALUE=DATE:20250105
DTEND;VALUE=DATE:20250106
DTSTAMP:20260424T071531
CREATED:20250129T213114Z
LAST-MODIFIED:20250129T213806Z
UID:43770-1736035200-1736121599@hopewellbc.com
SUMMARY:Next Step Sunday (Lord's Supper AM)
DESCRIPTION:
URL:https://hopewellbc.com/event/next-step-sunday-lords-supper-am-2/
END:VEVENT
BEGIN:VEVENT
DTSTART;TZID=America/Monterrey:20241231T000000
DTEND;TZID=America/Monterrey:20241231T000000
DTSTAMP:20260424T071531
CREATED:20240103T233100Z
LAST-MODIFIED:20240103T233100Z
UID:30306-1735603200-1735603200@hopewellbc.com
SUMMARY:New Year's Eve Service (8 PM)
DESCRIPTION:
URL:https://hopewellbc.com/event/new-years-eve-service-8-pm/
END:VEVENT
BEGIN:VEVENT
DTSTART;TZID=America/Monterrey:20241226T000000
DTEND;TZID=America/Monterrey:20241226T000000
DTSTAMP:20260424T071531
CREATED:20240103T233100Z
LAST-MODIFIED:20240103T233100Z
UID:30305-1735171200-1735171200@hopewellbc.com
SUMMARY:Teen Snow Trip (all day)
DESCRIPTION:
URL:https://hopewellbc.com/event/teen-snow-trip-all-day/
END:VEVENT
BEGIN:VEVENT
DTSTART;TZID=America/Monterrey:20241225T000000
DTEND;TZID=America/Monterrey:20241225T000000
DTSTAMP:20260424T071531
CREATED:20240103T233100Z
LAST-MODIFIED:20240103T233100Z
UID:30304-1735084800-1735084800@hopewellbc.com
SUMMARY:Christmas Day (no midweek service)
DESCRIPTION:
URL:https://hopewellbc.com/event/christmas-day-no-midweek-service/
END:VEVENT
BEGIN:VEVENT
DTSTART;TZID=America/Monterrey:20241224T000000
DTEND;TZID=America/Monterrey:20241224T000000
DTSTAMP:20260424T071531
CREATED:20240103T233057Z
LAST-MODIFIED:20240103T233057Z
UID:30303-1734998400-1734998400@hopewellbc.com
SUMMARY:Christmas Eve Candlelight Service (5 PM)
DESCRIPTION:
URL:https://hopewellbc.com/event/christmas-eve-candlelight-service-5-pm/
END:VEVENT
BEGIN:VEVENT
DTSTART;TZID=America/Monterrey:20241215T000000
DTEND;TZID=America/Monterrey:20241215T000000
DTSTAMP:20260424T071531
CREATED:20240103T233057Z
LAST-MODIFIED:20240103T233057Z
UID:30302-1734220800-1734220800@hopewellbc.com
SUMMARY:Children's Christmas Program
DESCRIPTION:
URL:https://hopewellbc.com/event/childrens-christmas-program-4/
END:VEVENT
BEGIN:VEVENT
DTSTART;TZID=America/Monterrey:20241213T000000
DTEND;TZID=America/Monterrey:20241213T000000
DTSTAMP:20260424T071531
CREATED:20240103T233057Z
LAST-MODIFIED:20240103T233057Z
UID:30301-1734048000-1734048000@hopewellbc.com
SUMMARY:Teen Christmas Activity
DESCRIPTION:
URL:https://hopewellbc.com/event/teen-christmas-activity-3/
END:VEVENT
BEGIN:VEVENT
DTSTART;TZID=America/Monterrey:20241210T000000
DTEND;TZID=America/Monterrey:20241210T000000
DTSTAMP:20260424T071531
CREATED:20240103T233057Z
LAST-MODIFIED:20240103T233057Z
UID:30300-1733788800-1733788800@hopewellbc.com
SUMMARY:Ladies' Christmas Activity
DESCRIPTION:
URL:https://hopewellbc.com/event/ladies-christmas-activity-3/
END:VEVENT
BEGIN:VEVENT
DTSTART;TZID=America/Monterrey:20241207T000000
DTEND;TZID=America/Monterrey:20241207T000000
DTSTAMP:20260424T071531
CREATED:20240103T233057Z
LAST-MODIFIED:20240103T233057Z
UID:30299-1733529600-1733529600@hopewellbc.com
SUMMARY:Super Saturday of Soul Winning
DESCRIPTION:
URL:https://hopewellbc.com/event/super-saturday-of-soul-winning-12/
END:VEVENT
BEGIN:VEVENT
DTSTART;TZID=America/Monterrey:20241203T000000
DTEND;TZID=America/Monterrey:20241203T000000
DTSTAMP:20260424T071531
CREATED:20240103T233042Z
LAST-MODIFIED:20240103T233042Z
UID:30298-1733184000-1733184000@hopewellbc.com
SUMMARY:Church Christmas Decorating Night
DESCRIPTION:
URL:https://hopewellbc.com/event/church-christmas-decorating-night-2/
END:VEVENT
BEGIN:VEVENT
DTSTART;TZID=America/Monterrey:20241201T000000
DTEND;TZID=America/Monterrey:20241201T000000
DTSTAMP:20260424T071531
CREATED:20240103T233042Z
LAST-MODIFIED:20240103T233042Z
UID:30297-1733011200-1733011200@hopewellbc.com
SUMMARY:Lord's Supper (AM)
DESCRIPTION:
URL:https://hopewellbc.com/event/lords-supper-am-2/
END:VEVENT
BEGIN:VEVENT
DTSTART;TZID=America/Monterrey:20241129T000000
DTEND;TZID=America/Monterrey:20241129T000000
DTSTAMP:20260424T071531
CREATED:20240103T233041Z
LAST-MODIFIED:20240103T233041Z
UID:30296-1732838400-1732838400@hopewellbc.com
SUMMARY:Mrs. Ray's Birthday
DESCRIPTION:
URL:https://hopewellbc.com/event/mrs-rays-birthday-3/
END:VEVENT
BEGIN:VEVENT
DTSTART;TZID=America/Monterrey:20241128T000000
DTEND;TZID=America/Monterrey:20241128T000000
DTSTAMP:20260424T071531
CREATED:20240103T233041Z
LAST-MODIFIED:20240103T233041Z
UID:30295-1732752000-1732752000@hopewellbc.com
SUMMARY:Thanksgiving
DESCRIPTION:
URL:https://hopewellbc.com/event/thanksgiving-3/
END:VEVENT
BEGIN:VEVENT
DTSTART;TZID=America/Monterrey:20241127T000000
DTEND;TZID=America/Monterrey:20241127T000000
DTSTAMP:20260424T071531
CREATED:20240103T233041Z
LAST-MODIFIED:20240103T233041Z
UID:30294-1732665600-1732665600@hopewellbc.com
SUMMARY:Pie\, Prayer\, & Praise Night
DESCRIPTION:
URL:https://hopewellbc.com/event/pie-prayer-praise-night-2/
END:VEVENT
BEGIN:VEVENT
DTSTART;TZID=America/Monterrey:20241124T000000
DTEND;TZID=America/Monterrey:20241124T000000
DTSTAMP:20260424T071531
CREATED:20240103T233038Z
LAST-MODIFIED:20240103T233038Z
UID:30293-1732406400-1732406400@hopewellbc.com
SUMMARY:Thanksgiving Offering Sunday
DESCRIPTION:
URL:https://hopewellbc.com/event/thanksgiving-offering-sunday-3/
END:VEVENT
BEGIN:VEVENT
DTSTART;TZID=America/Monterrey:20241111T000000
DTEND;TZID=America/Monterrey:20241111T000000
DTSTAMP:20260424T071531
CREATED:20240103T233038Z
LAST-MODIFIED:20240103T233038Z
UID:30292-1731283200-1731283200@hopewellbc.com
SUMMARY:Veterans Day
DESCRIPTION:
URL:https://hopewellbc.com/event/veterans-day-3/
END:VEVENT
BEGIN:VEVENT
DTSTART;TZID=America/Monterrey:20241109T000000
DTEND;TZID=America/Monterrey:20241109T000000
DTSTAMP:20260424T071531
CREATED:20240103T233038Z
LAST-MODIFIED:20240103T233038Z
UID:30291-1731110400-1731110400@hopewellbc.com
SUMMARY:Super Saturday of Soul Winning
DESCRIPTION:
URL:https://hopewellbc.com/event/super-saturday-of-soul-winning-11/
END:VEVENT
BEGIN:VEVENT
DTSTART;TZID=America/Monterrey:20241103T000000
DTEND;TZID=America/Monterrey:20241103T000000
DTSTAMP:20260424T071531
CREATED:20240103T233038Z
LAST-MODIFIED:20240103T233038Z
UID:30290-1730592000-1730592000@hopewellbc.com
SUMMARY:Fall Seniors' Luncheon
DESCRIPTION:
URL:https://hopewellbc.com/event/fall-seniors-luncheon/
END:VEVENT
BEGIN:VEVENT
DTSTART;TZID=America/Monterrey:20241031T000000
DTEND;TZID=America/Monterrey:20241031T000000
DTSTAMP:20260424T071531
CREATED:20240103T233023Z
LAST-MODIFIED:20240103T233023Z
UID:30288-1730332800-1730332800@hopewellbc.com
SUMMARY:Harvest Festival
DESCRIPTION:
URL:https://hopewellbc.com/event/harvest-festival-3/
END:VEVENT
END:VCALENDAR