BEGIN:VCALENDAR
VERSION:2.0
PRODID:-//Hopewell Baptist Church - ECPv6.15.20//NONSGML v1.0//EN
CALSCALE:GREGORIAN
METHOD:PUBLISH
X-WR-CALNAME:Hopewell Baptist Church
X-ORIGINAL-URL:https://hopewellbc.com
X-WR-CALDESC:Events for Hopewell Baptist Church
REFRESH-INTERVAL;VALUE=DURATION:PT1H
X-Robots-Tag:noindex
X-PUBLISHED-TTL:PT1H
BEGIN:VTIMEZONE
TZID:America/Monterrey
BEGIN:DAYLIGHT
TZOFFSETFROM:-0600
TZOFFSETTO:-0500
TZNAME:CDT
DTSTART:20250406T080000
END:DAYLIGHT
BEGIN:STANDARD
TZOFFSETFROM:-0500
TZOFFSETTO:-0600
TZNAME:CST
DTSTART:20251026T070000
END:STANDARD
BEGIN:DAYLIGHT
TZOFFSETFROM:-0600
TZOFFSETTO:-0500
TZNAME:CDT
DTSTART:20260405T080000
END:DAYLIGHT
BEGIN:STANDARD
TZOFFSETFROM:-0500
TZOFFSETTO:-0600
TZNAME:CST
DTSTART:20261025T070000
END:STANDARD
BEGIN:DAYLIGHT
TZOFFSETFROM:-0600
TZOFFSETTO:-0500
TZNAME:CDT
DTSTART:20270404T080000
END:DAYLIGHT
BEGIN:STANDARD
TZOFFSETFROM:-0500
TZOFFSETTO:-0600
TZNAME:CST
DTSTART:20271031T070000
END:STANDARD
END:VTIMEZONE
BEGIN:VEVENT
DTSTART;VALUE=DATE:20260406
DTEND;VALUE=DATE:20260412
DTSTAMP:20260423T110103
CREATED:20260311T230028Z
LAST-MODIFIED:20260311T231134Z
UID:47275-1775433600-1775951999@hopewellbc.com
SUMMARY:Churchwide 10\,000-Door Campaign
DESCRIPTION:
URL:https://hopewellbc.com/event/churchwide-10000-door-campaign-2/
END:VEVENT
BEGIN:VEVENT
DTSTART;VALUE=DATE:20260411
DTEND;VALUE=DATE:20260412
DTSTAMP:20260423T110103
CREATED:20260311T230044Z
LAST-MODIFIED:20260311T231130Z
UID:47281-1775865600-1775951999@hopewellbc.com
SUMMARY:Big Day of Visiting
DESCRIPTION:
URL:https://hopewellbc.com/event/big-day-of-visiting/
END:VEVENT
BEGIN:VEVENT
DTSTART;VALUE=DATE:20260412
DTEND;VALUE=DATE:20260413
DTSTAMP:20260423T110103
CREATED:20260311T230044Z
LAST-MODIFIED:20260311T231127Z
UID:47282-1775952000-1776038399@hopewellbc.com
SUMMARY:Amusement Park Sunday
DESCRIPTION:
URL:https://hopewellbc.com/event/amusement-park-sunday-4/
END:VEVENT
BEGIN:VEVENT
DTSTART;VALUE=DATE:20260413
DTEND;VALUE=DATE:20260415
DTSTAMP:20260423T110103
CREATED:20260311T230044Z
LAST-MODIFIED:20260311T231123Z
UID:47283-1776038400-1776211199@hopewellbc.com
SUMMARY:GSBC College Days
DESCRIPTION:
URL:https://hopewellbc.com/event/gsbc-college-days/
END:VEVENT
BEGIN:VEVENT
DTSTART;VALUE=DATE:20260419
DTEND;VALUE=DATE:20260420
DTSTAMP:20260423T110103
CREATED:20260311T230044Z
LAST-MODIFIED:20260311T231120Z
UID:47284-1776556800-1776643199@hopewellbc.com
SUMMARY:Baptism Sunday
DESCRIPTION:
URL:https://hopewellbc.com/event/baptism-sunday-4/
END:VEVENT
BEGIN:VEVENT
DTSTART;VALUE=DATE:20260426
DTEND;VALUE=DATE:20260427
DTSTAMP:20260423T110103
CREATED:20260311T230045Z
LAST-MODIFIED:20260311T231043Z
UID:47285-1777161600-1777247999@hopewellbc.com
SUMMARY:Garraway Family at Hopewell
DESCRIPTION:
URL:https://hopewellbc.com/event/garraway-family-at-hopewell/
END:VEVENT
BEGIN:VEVENT
DTSTART;VALUE=DATE:20260503
DTEND;VALUE=DATE:20260504
DTSTAMP:20260423T110103
CREATED:20260311T230100Z
LAST-MODIFIED:20260311T231040Z
UID:47291-1777766400-1777852799@hopewellbc.com
SUMMARY:Lord's Supper (AM)
DESCRIPTION:
URL:https://hopewellbc.com/event/lords-supper-am-7/
END:VEVENT
BEGIN:VEVENT
DTSTART;VALUE=DATE:20260507
DTEND;VALUE=DATE:20260508
DTSTAMP:20260423T110103
CREATED:20260311T230101Z
LAST-MODIFIED:20260311T231037Z
UID:47292-1778112000-1778198399@hopewellbc.com
SUMMARY:Mother/Daughter/Friend Banquet
DESCRIPTION:
URL:https://hopewellbc.com/event/mother-daughter-friend-banquet-3/
END:VEVENT
BEGIN:VEVENT
DTSTART;VALUE=DATE:20260510
DTEND;VALUE=DATE:20260511
DTSTAMP:20260423T110103
CREATED:20260311T230101Z
LAST-MODIFIED:20260311T231033Z
UID:47293-1778371200-1778457599@hopewellbc.com
SUMMARY:Mother's Day
DESCRIPTION:
URL:https://hopewellbc.com/event/mothers-day-4/
END:VEVENT
BEGIN:VEVENT
DTSTART;VALUE=DATE:20260515
DTEND;VALUE=DATE:20260516
DTSTAMP:20260423T110103
CREATED:20260311T230101Z
LAST-MODIFIED:20260311T231030Z
UID:47294-1778803200-1778889599@hopewellbc.com
SUMMARY:Escape Room Teen Activity
DESCRIPTION:
URL:https://hopewellbc.com/event/escape-room-teen-activity/
END:VEVENT
BEGIN:VEVENT
DTSTART;VALUE=DATE:20260517
DTEND;VALUE=DATE:20260518
DTSTAMP:20260423T110103
CREATED:20260311T230101Z
LAST-MODIFIED:20260311T231027Z
UID:47295-1778976000-1779062399@hopewellbc.com
SUMMARY:Walking Tacos Fellowship (PM)
DESCRIPTION:
URL:https://hopewellbc.com/event/walking-tacos-fellowship-pm-4/
END:VEVENT
BEGIN:VEVENT
DTSTART;VALUE=DATE:20260525
DTEND;VALUE=DATE:20260526
DTSTAMP:20260423T110103
CREATED:20260311T230117Z
LAST-MODIFIED:20260311T231023Z
UID:47301-1779667200-1779753599@hopewellbc.com
SUMMARY:Memorial Day
DESCRIPTION:
URL:https://hopewellbc.com/event/memorial-day-2/
END:VEVENT
BEGIN:VEVENT
DTSTART;VALUE=DATE:20260607
DTEND;VALUE=DATE:20260608
DTSTAMP:20260423T110103
CREATED:20260311T230117Z
LAST-MODIFIED:20260311T231020Z
UID:47302-1780790400-1780876799@hopewellbc.com
SUMMARY:VBS Planning Meeting (5 PM)
DESCRIPTION:
URL:https://hopewellbc.com/event/vbs-planning-meeting-5-pm/
END:VEVENT
BEGIN:VEVENT
DTSTART;VALUE=DATE:20260614
DTEND;VALUE=DATE:20260615
DTSTAMP:20260423T110103
CREATED:20260311T230117Z
LAST-MODIFIED:20260311T231013Z
UID:47303-1781395200-1781481599@hopewellbc.com
SUMMARY:Promotion Sunday
DESCRIPTION:
URL:https://hopewellbc.com/event/promotion-sunday/
END:VEVENT
BEGIN:VEVENT
DTSTART;VALUE=DATE:20260614
DTEND;VALUE=DATE:20260615
DTSTAMP:20260423T110103
CREATED:20260311T230117Z
LAST-MODIFIED:20260311T231016Z
UID:47304-1781395200-1781481599@hopewellbc.com
SUMMARY:BBQ Fellowship
DESCRIPTION:
URL:https://hopewellbc.com/event/bbq-fellowship/
END:VEVENT
BEGIN:VEVENT
DTSTART;VALUE=DATE:20260621
DTEND;VALUE=DATE:20260622
DTSTAMP:20260423T110103
CREATED:20260311T230117Z
LAST-MODIFIED:20260311T231010Z
UID:47305-1782000000-1782086399@hopewellbc.com
SUMMARY:Father's Day
DESCRIPTION:
URL:https://hopewellbc.com/event/fathers-day-6/
END:VEVENT
BEGIN:VEVENT
DTSTART;VALUE=DATE:20260622
DTEND;VALUE=DATE:20260626
DTSTAMP:20260423T110103
CREATED:20260311T230133Z
LAST-MODIFIED:20260311T231006Z
UID:47311-1782086400-1782431999@hopewellbc.com
SUMMARY:NVBC Youth Confernence (Teens)
DESCRIPTION:
URL:https://hopewellbc.com/event/nvbc-youth-confernence-teens-4/
END:VEVENT
BEGIN:VEVENT
DTSTART;VALUE=DATE:20260628
DTEND;VALUE=DATE:20260629
DTSTAMP:20260423T110103
CREATED:20260311T230133Z
LAST-MODIFIED:20260311T231003Z
UID:47312-1782604800-1782691199@hopewellbc.com
SUMMARY:Teen Takover Night
DESCRIPTION:
URL:https://hopewellbc.com/event/teen-takover-night/
END:VEVENT
BEGIN:VEVENT
DTSTART;VALUE=DATE:20260704
DTEND;VALUE=DATE:20260705
DTSTAMP:20260423T110103
CREATED:20260311T230133Z
LAST-MODIFIED:20260311T230959Z
UID:47313-1783123200-1783209599@hopewellbc.com
SUMMARY:Indpendence Day
DESCRIPTION:
URL:https://hopewellbc.com/event/indpendence-day/
END:VEVENT
BEGIN:VEVENT
DTSTART;VALUE=DATE:20260705
DTEND;VALUE=DATE:20260706
DTSTAMP:20260423T110103
CREATED:20260311T230133Z
LAST-MODIFIED:20260311T230952Z
UID:47314-1783209600-1783295999@hopewellbc.com
SUMMARY:Patriotic Sunday
DESCRIPTION:
URL:https://hopewellbc.com/event/patriotic-sunday-3/
END:VEVENT
BEGIN:VEVENT
DTSTART;VALUE=DATE:20260705
DTEND;VALUE=DATE:20260706
DTSTAMP:20260423T110103
CREATED:20260311T230133Z
LAST-MODIFIED:20260311T230956Z
UID:47315-1783209600-1783295999@hopewellbc.com
SUMMARY:Ice Cream Social (PM)
DESCRIPTION:
URL:https://hopewellbc.com/event/ice-cream-social-pm-2/
END:VEVENT
BEGIN:VEVENT
DTSTART;VALUE=DATE:20260705
DTEND;VALUE=DATE:20260706
DTSTAMP:20260423T110103
CREATED:20260311T230148Z
LAST-MODIFIED:20260311T230948Z
UID:47321-1783209600-1783295999@hopewellbc.com
SUMMARY:Lord's Supper (PM)
DESCRIPTION:
URL:https://hopewellbc.com/event/lords-supper-pm-11/
END:VEVENT
BEGIN:VEVENT
DTSTART;VALUE=DATE:20260708
DTEND;VALUE=DATE:20260711
DTSTAMP:20260423T110103
CREATED:20260311T230149Z
LAST-MODIFIED:20260311T230945Z
UID:47322-1783468800-1783727999@hopewellbc.com
SUMMARY:Vacation Bible School
DESCRIPTION:
URL:https://hopewellbc.com/event/vacation-bible-school/
END:VEVENT
BEGIN:VEVENT
DTSTART;VALUE=DATE:20260712
DTEND;VALUE=DATE:20260713
DTSTAMP:20260423T110103
CREATED:20260311T230149Z
LAST-MODIFIED:20260311T230941Z
UID:47323-1783814400-1783900799@hopewellbc.com
SUMMARY:VBS Afterglow (PM Service)
DESCRIPTION:
URL:https://hopewellbc.com/event/vbs-afterglow-pm-service/
END:VEVENT
BEGIN:VEVENT
DTSTART;VALUE=DATE:20260717
DTEND;VALUE=DATE:20260718
DTSTAMP:20260423T110103
CREATED:20260311T230205Z
LAST-MODIFIED:20260311T230938Z
UID:47331-1784246400-1784332799@hopewellbc.com
SUMMARY:Six Flags Teen Activity
DESCRIPTION:
URL:https://hopewellbc.com/event/six-flags-teen-activity/
END:VEVENT
BEGIN:VEVENT
DTSTART;VALUE=DATE:20260719
DTEND;VALUE=DATE:20260720
DTSTAMP:20260423T110103
CREATED:20260311T230149Z
LAST-MODIFIED:20260311T230903Z
UID:47324-1784419200-1784505599@hopewellbc.com
SUMMARY:Pastor's Birthday
DESCRIPTION:
URL:https://hopewellbc.com/event/pastors-birthday-4/
END:VEVENT
BEGIN:VEVENT
DTSTART;VALUE=DATE:20260719
DTEND;VALUE=DATE:20260720
DTSTAMP:20260423T110103
CREATED:20260311T230149Z
LAST-MODIFIED:20260311T230907Z
UID:47325-1784419200-1784505599@hopewellbc.com
SUMMARY:Habit Takeover Night
DESCRIPTION:
URL:https://hopewellbc.com/event/habit-takeover-night/
END:VEVENT
BEGIN:VEVENT
DTSTART;VALUE=DATE:20260726
DTEND;VALUE=DATE:20260727
DTSTAMP:20260423T110103
CREATED:20260311T230206Z
LAST-MODIFIED:20260311T230859Z
UID:47332-1785024000-1785110399@hopewellbc.com
SUMMARY:Loaded Nachos Fellowship (PM)
DESCRIPTION:
URL:https://hopewellbc.com/event/loaded-nachos-fellowship-pm-2/
END:VEVENT
BEGIN:VEVENT
DTSTART;VALUE=DATE:20260727
DTEND;VALUE=DATE:20260801
DTSTAMP:20260423T110103
CREATED:20260311T230206Z
LAST-MODIFIED:20260311T230855Z
UID:47333-1785110400-1785542399@hopewellbc.com
SUMMARY:Mt. Zion Baptist Camp
DESCRIPTION:
URL:https://hopewellbc.com/event/mt-zion-baptist-camp/
END:VEVENT
BEGIN:VEVENT
DTSTART;VALUE=DATE:20260802
DTEND;VALUE=DATE:20260803
DTSTAMP:20260423T110103
CREATED:20260311T230206Z
LAST-MODIFIED:20260311T230841Z
UID:47334-1785628800-1785715199@hopewellbc.com
SUMMARY:Popcorn & Punch Singspiration (PM)
DESCRIPTION:
URL:https://hopewellbc.com/event/popcorn-punch-singspiration-pm-2/
END:VEVENT
END:VCALENDAR