BEGIN:VCALENDAR
VERSION:2.0
PRODID:-//Hopewell Baptist Church - ECPv6.15.20//NONSGML v1.0//EN
CALSCALE:GREGORIAN
METHOD:PUBLISH
X-ORIGINAL-URL:https://hopewellbc.com
X-WR-CALDESC:Events for Hopewell Baptist Church
REFRESH-INTERVAL;VALUE=DURATION:PT1H
X-Robots-Tag:noindex
X-PUBLISHED-TTL:PT1H
BEGIN:VTIMEZONE
TZID:America/Monterrey
BEGIN:DAYLIGHT
TZOFFSETFROM:-0600
TZOFFSETTO:-0500
TZNAME:CDT
DTSTART:20250406T080000
END:DAYLIGHT
BEGIN:STANDARD
TZOFFSETFROM:-0500
TZOFFSETTO:-0600
TZNAME:CST
DTSTART:20251026T070000
END:STANDARD
BEGIN:DAYLIGHT
TZOFFSETFROM:-0600
TZOFFSETTO:-0500
TZNAME:CDT
DTSTART:20260405T080000
END:DAYLIGHT
BEGIN:STANDARD
TZOFFSETFROM:-0500
TZOFFSETTO:-0600
TZNAME:CST
DTSTART:20261025T070000
END:STANDARD
BEGIN:DAYLIGHT
TZOFFSETFROM:-0600
TZOFFSETTO:-0500
TZNAME:CDT
DTSTART:20270404T080000
END:DAYLIGHT
BEGIN:STANDARD
TZOFFSETFROM:-0500
TZOFFSETTO:-0600
TZNAME:CST
DTSTART:20271031T070000
END:STANDARD
END:VTIMEZONE
BEGIN:VEVENT
DTSTART;VALUE=DATE:20260705
DTEND;VALUE=DATE:20260706
DTSTAMP:20260423T132240
CREATED:20260311T230133Z
LAST-MODIFIED:20260311T230952Z
UID:47314-1783209600-1783295999@hopewellbc.com
SUMMARY:Patriotic Sunday
DESCRIPTION:
URL:https://hopewellbc.com/event/patriotic-sunday-3/
END:VEVENT
BEGIN:VEVENT
DTSTART;VALUE=DATE:20260705
DTEND;VALUE=DATE:20260706
DTSTAMP:20260423T132240
CREATED:20260311T230133Z
LAST-MODIFIED:20260311T230956Z
UID:47315-1783209600-1783295999@hopewellbc.com
SUMMARY:Ice Cream Social (PM)
DESCRIPTION:
URL:https://hopewellbc.com/event/ice-cream-social-pm-2/
END:VEVENT
BEGIN:VEVENT
DTSTART;VALUE=DATE:20260705
DTEND;VALUE=DATE:20260706
DTSTAMP:20260423T132240
CREATED:20260311T230148Z
LAST-MODIFIED:20260311T230948Z
UID:47321-1783209600-1783295999@hopewellbc.com
SUMMARY:Lord's Supper (PM)
DESCRIPTION:
URL:https://hopewellbc.com/event/lords-supper-pm-11/
END:VEVENT
END:VCALENDAR